BEGIN:VCALENDAR
VERSION:2.0
PRODID:-//Annville Free Library - ECPv6.15.17.1//NONSGML v1.0//EN
CALSCALE:GREGORIAN
METHOD:PUBLISH
X-WR-CALNAME:Annville Free Library
X-ORIGINAL-URL:https://annville.lclibs.org
X-WR-CALDESC:Events for Annville Free Library
REFRESH-INTERVAL;VALUE=DURATION:PT1H
X-Robots-Tag:noindex
X-PUBLISHED-TTL:PT1H
BEGIN:VTIMEZONE
TZID:America/New_York
BEGIN:DAYLIGHT
TZOFFSETFROM:-0500
TZOFFSETTO:-0400
TZNAME:EDT
DTSTART:20220313T070000
END:DAYLIGHT
BEGIN:STANDARD
TZOFFSETFROM:-0400
TZOFFSETTO:-0500
TZNAME:EST
DTSTART:20221106T060000
END:STANDARD
BEGIN:DAYLIGHT
TZOFFSETFROM:-0500
TZOFFSETTO:-0400
TZNAME:EDT
DTSTART:20230312T070000
END:DAYLIGHT
BEGIN:STANDARD
TZOFFSETFROM:-0400
TZOFFSETTO:-0500
TZNAME:EST
DTSTART:20231105T060000
END:STANDARD
BEGIN:DAYLIGHT
TZOFFSETFROM:-0500
TZOFFSETTO:-0400
TZNAME:EDT
DTSTART:20240310T070000
END:DAYLIGHT
BEGIN:STANDARD
TZOFFSETFROM:-0400
TZOFFSETTO:-0500
TZNAME:EST
DTSTART:20241103T060000
END:STANDARD
END:VTIMEZONE
BEGIN:VEVENT
DTSTART;TZID=America/New_York:20230726T180000
DTEND;TZID=America/New_York:20230726T190000
DTSTAMP:20260424T185455
CREATED:20230706T205128Z
LAST-MODIFIED:20251019T170016Z
UID:10000526-1690394400-1690398000@annville.lclibs.org
SUMMARY:AA Sober Agnostics Meeting @ Annville Free Library
DESCRIPTION:Join us on Wednesdays from 6-7pm for Sober Agnostics. This meeting is held on the first floor in the our community room. \nFor more information about Alcoholics Anonymous in Lebanon County\, please visit: www.lebanonpaaa.org  \nOr call the local 24-hour hotline: 223-322-9305
URL:https://annville.lclibs.org/event/aa-sober-agnostics-meeting-afl-2/2023-07-26/
LOCATION:Annville Free Library\, 216 E Main St\, Annville\, PA\, 17003\, United States
CATEGORIES:Adult program,Annville Free Library,Seniors
ORGANIZER;CN="Ronice Nolt":MAILTO:rnolt@lclibs.org
GEO:40.3296151;-76.5120963
X-APPLE-STRUCTURED-LOCATION;VALUE=URI;X-ADDRESS=Annville Free Library 216 E Main St Annville PA 17003 United States;X-APPLE-RADIUS=500;X-TITLE=216 E Main St:geo:-76.5120963,40.3296151
END:VEVENT
BEGIN:VEVENT
DTSTART;TZID=America/New_York:20230720T150000
DTEND;TZID=America/New_York:20230720T170000
DTSTAMP:20260424T185455
CREATED:20230706T204751Z
LAST-MODIFIED:20260330T210823Z
UID:10000475-1689865200-1689872400@annville.lclibs.org
SUMMARY:Annville Free Library Chess Club
DESCRIPTION:Join us on Thursdays from 3-5pm for Chess Club. No registration is required. All ages and skill levels are welcome!
URL:https://annville.lclibs.org/event/afl-chess-club-2/2023-07-20/
LOCATION:Annville Free Library\, 216 E Main St\, Annville\, PA\, 17003\, United States
CATEGORIES:Adults,Annville Free Library,Children,Interest Group,Seniors,Teens
ORGANIZER;CN="Ronice Nolt":MAILTO:rnolt@lclibs.org
GEO:40.3296151;-76.5120963
X-APPLE-STRUCTURED-LOCATION;VALUE=URI;X-ADDRESS=Annville Free Library 216 E Main St Annville PA 17003 United States;X-APPLE-RADIUS=500;X-TITLE=216 E Main St:geo:-76.5120963,40.3296151
END:VEVENT
BEGIN:VEVENT
DTSTART;TZID=America/New_York:20230719T180000
DTEND;TZID=America/New_York:20230719T190000
DTSTAMP:20260424T185455
CREATED:20230706T205128Z
LAST-MODIFIED:20251019T170016Z
UID:10000525-1689789600-1689793200@annville.lclibs.org
SUMMARY:AA Sober Agnostics Meeting @ Annville Free Library
DESCRIPTION:Join us on Wednesdays from 6-7pm for Sober Agnostics. This meeting is held on the first floor in the our community room. \nFor more information about Alcoholics Anonymous in Lebanon County\, please visit: www.lebanonpaaa.org  \nOr call the local 24-hour hotline: 223-322-9305
URL:https://annville.lclibs.org/event/aa-sober-agnostics-meeting-afl-2/2023-07-19/
LOCATION:Annville Free Library\, 216 E Main St\, Annville\, PA\, 17003\, United States
CATEGORIES:Adult program,Annville Free Library,Seniors
ORGANIZER;CN="Ronice Nolt":MAILTO:rnolt@lclibs.org
GEO:40.3296151;-76.5120963
X-APPLE-STRUCTURED-LOCATION;VALUE=URI;X-ADDRESS=Annville Free Library 216 E Main St Annville PA 17003 United States;X-APPLE-RADIUS=500;X-TITLE=216 E Main St:geo:-76.5120963,40.3296151
END:VEVENT
BEGIN:VEVENT
DTSTART;TZID=America/New_York:20230713T150000
DTEND;TZID=America/New_York:20230713T170000
DTSTAMP:20260424T185455
CREATED:20230706T204751Z
LAST-MODIFIED:20260330T210823Z
UID:10000474-1689260400-1689267600@annville.lclibs.org
SUMMARY:Annville Free Library Chess Club
DESCRIPTION:Join us on Thursdays from 3-5pm for Chess Club. No registration is required. All ages and skill levels are welcome!
URL:https://annville.lclibs.org/event/afl-chess-club-2/2023-07-13/
LOCATION:Annville Free Library\, 216 E Main St\, Annville\, PA\, 17003\, United States
CATEGORIES:Adults,Annville Free Library,Children,Interest Group,Seniors,Teens
ORGANIZER;CN="Ronice Nolt":MAILTO:rnolt@lclibs.org
GEO:40.3296151;-76.5120963
X-APPLE-STRUCTURED-LOCATION;VALUE=URI;X-ADDRESS=Annville Free Library 216 E Main St Annville PA 17003 United States;X-APPLE-RADIUS=500;X-TITLE=216 E Main St:geo:-76.5120963,40.3296151
END:VEVENT
BEGIN:VEVENT
DTSTART;TZID=America/New_York:20230712T180000
DTEND;TZID=America/New_York:20230712T190000
DTSTAMP:20260424T185455
CREATED:20230706T205128Z
LAST-MODIFIED:20251019T170016Z
UID:10000053-1689184800-1689188400@annville.lclibs.org
SUMMARY:AA Sober Agnostics Meeting @ Annville Free Library
DESCRIPTION:Join us on Wednesdays from 6-7pm for Sober Agnostics. This meeting is held on the first floor in the our community room. \nFor more information about Alcoholics Anonymous in Lebanon County\, please visit: www.lebanonpaaa.org  \nOr call the local 24-hour hotline: 223-322-9305
URL:https://annville.lclibs.org/event/aa-sober-agnostics-meeting-afl-2/2023-07-12/
LOCATION:Annville Free Library\, 216 E Main St\, Annville\, PA\, 17003\, United States
CATEGORIES:Adult program,Annville Free Library,Seniors
ORGANIZER;CN="Ronice Nolt":MAILTO:rnolt@lclibs.org
GEO:40.3296151;-76.5120963
X-APPLE-STRUCTURED-LOCATION;VALUE=URI;X-ADDRESS=Annville Free Library 216 E Main St Annville PA 17003 United States;X-APPLE-RADIUS=500;X-TITLE=216 E Main St:geo:-76.5120963,40.3296151
END:VEVENT
BEGIN:VEVENT
DTSTART;TZID=America/New_York:20230706T150000
DTEND;TZID=America/New_York:20230706T170000
DTSTAMP:20260424T185455
CREATED:20230706T204751Z
LAST-MODIFIED:20260330T210823Z
UID:10000473-1688655600-1688662800@annville.lclibs.org
SUMMARY:Annville Free Library Chess Club
DESCRIPTION:Join us on Thursdays from 3-5pm for Chess Club. No registration is required. All ages and skill levels are welcome!
URL:https://annville.lclibs.org/event/afl-chess-club-2/2023-07-06/
LOCATION:Annville Free Library\, 216 E Main St\, Annville\, PA\, 17003\, United States
CATEGORIES:Adults,Annville Free Library,Children,Interest Group,Seniors,Teens
ORGANIZER;CN="Ronice Nolt":MAILTO:rnolt@lclibs.org
GEO:40.3296151;-76.5120963
X-APPLE-STRUCTURED-LOCATION;VALUE=URI;X-ADDRESS=Annville Free Library 216 E Main St Annville PA 17003 United States;X-APPLE-RADIUS=500;X-TITLE=216 E Main St:geo:-76.5120963,40.3296151
END:VEVENT
END:VCALENDAR