BEGIN:VCALENDAR
VERSION:2.0
PRODID:-//Annville Free Library - ECPv6.15.17.1//NONSGML v1.0//EN
CALSCALE:GREGORIAN
METHOD:PUBLISH
X-WR-CALNAME:Annville Free Library
X-ORIGINAL-URL:https://annville.lclibs.org
X-WR-CALDESC:Events for Annville Free Library
REFRESH-INTERVAL;VALUE=DURATION:PT1H
X-Robots-Tag:noindex
X-PUBLISHED-TTL:PT1H
BEGIN:VTIMEZONE
TZID:America/New_York
BEGIN:DAYLIGHT
TZOFFSETFROM:-0500
TZOFFSETTO:-0400
TZNAME:EDT
DTSTART:20230312T070000
END:DAYLIGHT
BEGIN:STANDARD
TZOFFSETFROM:-0400
TZOFFSETTO:-0500
TZNAME:EST
DTSTART:20231105T060000
END:STANDARD
BEGIN:DAYLIGHT
TZOFFSETFROM:-0500
TZOFFSETTO:-0400
TZNAME:EDT
DTSTART:20240310T070000
END:DAYLIGHT
BEGIN:STANDARD
TZOFFSETFROM:-0400
TZOFFSETTO:-0500
TZNAME:EST
DTSTART:20241103T060000
END:STANDARD
BEGIN:DAYLIGHT
TZOFFSETFROM:-0500
TZOFFSETTO:-0400
TZNAME:EDT
DTSTART:20250309T070000
END:DAYLIGHT
BEGIN:STANDARD
TZOFFSETFROM:-0400
TZOFFSETTO:-0500
TZNAME:EST
DTSTART:20251102T060000
END:STANDARD
END:VTIMEZONE
BEGIN:VEVENT
DTSTART;TZID=America/New_York:20240829T150000
DTEND;TZID=America/New_York:20240829T170000
DTSTAMP:20260423T195716
CREATED:20230706T204751Z
LAST-MODIFIED:20260330T210823Z
UID:10001175-1724943600-1724950800@annville.lclibs.org
SUMMARY:Annville Free Library Chess Club
DESCRIPTION:Join us on Thursdays from 3-5pm for Chess Club. No registration is required. All ages and skill levels are welcome!
URL:https://annville.lclibs.org/event/afl-chess-club-2/2024-08-29/
LOCATION:Annville Free Library\, 216 E Main St\, Annville\, PA\, 17003\, United States
CATEGORIES:Adults,Annville Free Library,Children,Interest Group,Seniors,Teens
ORGANIZER;CN="Ronice Nolt":MAILTO:rnolt@lclibs.org
GEO:40.3296151;-76.5120963
X-APPLE-STRUCTURED-LOCATION;VALUE=URI;X-ADDRESS=Annville Free Library 216 E Main St Annville PA 17003 United States;X-APPLE-RADIUS=500;X-TITLE=216 E Main St:geo:-76.5120963,40.3296151
END:VEVENT
BEGIN:VEVENT
DTSTART;TZID=America/New_York:20240828T180000
DTEND;TZID=America/New_York:20240828T190000
DTSTAMP:20260423T195716
CREATED:20230706T205128Z
LAST-MODIFIED:20251019T170016Z
UID:10000629-1724868000-1724871600@annville.lclibs.org
SUMMARY:AA Sober Agnostics Meeting @ Annville Free Library
DESCRIPTION:Join us on Wednesdays from 6-7pm for Sober Agnostics. This meeting is held on the first floor in the our community room. \nFor more information about Alcoholics Anonymous in Lebanon County\, please visit: www.lebanonpaaa.org  \nOr call the local 24-hour hotline: 223-322-9305
URL:https://annville.lclibs.org/event/aa-sober-agnostics-meeting-afl-2/2024-08-28/
LOCATION:Annville Free Library\, 216 E Main St\, Annville\, PA\, 17003\, United States
CATEGORIES:Adult program,Annville Free Library,Seniors
ORGANIZER;CN="Ronice Nolt":MAILTO:rnolt@lclibs.org
GEO:40.3296151;-76.5120963
X-APPLE-STRUCTURED-LOCATION;VALUE=URI;X-ADDRESS=Annville Free Library 216 E Main St Annville PA 17003 United States;X-APPLE-RADIUS=500;X-TITLE=216 E Main St:geo:-76.5120963,40.3296151
END:VEVENT
BEGIN:VEVENT
DTSTART;TZID=America/New_York:20240827T180000
DTEND;TZID=America/New_York:20240827T200000
DTSTAMP:20260423T195716
CREATED:20240207T065656Z
LAST-MODIFIED:20241229T235342Z
UID:10002757-1724781600-1724788800@annville.lclibs.org
SUMMARY:AFL Knitters
DESCRIPTION:AFL Knitting Group\nThe AFL Knitting Group meets at the library every Tuesday @ 6:00 pm\nAll knitting levels are welcome!\nBring the project you are working on.
URL:https://annville.lclibs.org/event/afl-knitters/2024-08-27/
LOCATION:Annville Free Library\, 216 E Main St\, Annville\, PA\, 17003\, United States
CATEGORIES:Annville Free Library,Interest Group
GEO:40.3296151;-76.5120963
X-APPLE-STRUCTURED-LOCATION;VALUE=URI;X-ADDRESS=Annville Free Library 216 E Main St Annville PA 17003 United States;X-APPLE-RADIUS=500;X-TITLE=216 E Main St:geo:-76.5120963,40.3296151
END:VEVENT
BEGIN:VEVENT
DTSTART;TZID=America/New_York:20240822T150000
DTEND;TZID=America/New_York:20240822T170000
DTSTAMP:20260423T195716
CREATED:20230706T204751Z
LAST-MODIFIED:20260330T210823Z
UID:10000636-1724338800-1724346000@annville.lclibs.org
SUMMARY:Annville Free Library Chess Club
DESCRIPTION:Join us on Thursdays from 3-5pm for Chess Club. No registration is required. All ages and skill levels are welcome!
URL:https://annville.lclibs.org/event/afl-chess-club-2/2024-08-22/
LOCATION:Annville Free Library\, 216 E Main St\, Annville\, PA\, 17003\, United States
CATEGORIES:Adults,Annville Free Library,Children,Interest Group,Seniors,Teens
ORGANIZER;CN="Ronice Nolt":MAILTO:rnolt@lclibs.org
GEO:40.3296151;-76.5120963
X-APPLE-STRUCTURED-LOCATION;VALUE=URI;X-ADDRESS=Annville Free Library 216 E Main St Annville PA 17003 United States;X-APPLE-RADIUS=500;X-TITLE=216 E Main St:geo:-76.5120963,40.3296151
END:VEVENT
BEGIN:VEVENT
DTSTART;TZID=America/New_York:20240821T180000
DTEND;TZID=America/New_York:20240821T190000
DTSTAMP:20260423T195716
CREATED:20230706T205128Z
LAST-MODIFIED:20251019T170016Z
UID:10000628-1724263200-1724266800@annville.lclibs.org
SUMMARY:AA Sober Agnostics Meeting @ Annville Free Library
DESCRIPTION:Join us on Wednesdays from 6-7pm for Sober Agnostics. This meeting is held on the first floor in the our community room. \nFor more information about Alcoholics Anonymous in Lebanon County\, please visit: www.lebanonpaaa.org  \nOr call the local 24-hour hotline: 223-322-9305
URL:https://annville.lclibs.org/event/aa-sober-agnostics-meeting-afl-2/2024-08-21/
LOCATION:Annville Free Library\, 216 E Main St\, Annville\, PA\, 17003\, United States
CATEGORIES:Adult program,Annville Free Library,Seniors
ORGANIZER;CN="Ronice Nolt":MAILTO:rnolt@lclibs.org
GEO:40.3296151;-76.5120963
X-APPLE-STRUCTURED-LOCATION;VALUE=URI;X-ADDRESS=Annville Free Library 216 E Main St Annville PA 17003 United States;X-APPLE-RADIUS=500;X-TITLE=216 E Main St:geo:-76.5120963,40.3296151
END:VEVENT
BEGIN:VEVENT
DTSTART;TZID=America/New_York:20240820T180000
DTEND;TZID=America/New_York:20240820T200000
DTSTAMP:20260423T195716
CREATED:20240207T065656Z
LAST-MODIFIED:20241229T235342Z
UID:10002756-1724176800-1724184000@annville.lclibs.org
SUMMARY:AFL Knitters
DESCRIPTION:AFL Knitting Group\nThe AFL Knitting Group meets at the library every Tuesday @ 6:00 pm\nAll knitting levels are welcome!\nBring the project you are working on.
URL:https://annville.lclibs.org/event/afl-knitters/2024-08-20/
LOCATION:Annville Free Library\, 216 E Main St\, Annville\, PA\, 17003\, United States
CATEGORIES:Annville Free Library,Interest Group
GEO:40.3296151;-76.5120963
X-APPLE-STRUCTURED-LOCATION;VALUE=URI;X-ADDRESS=Annville Free Library 216 E Main St Annville PA 17003 United States;X-APPLE-RADIUS=500;X-TITLE=216 E Main St:geo:-76.5120963,40.3296151
END:VEVENT
BEGIN:VEVENT
DTSTART;TZID=America/New_York:20240815T150000
DTEND;TZID=America/New_York:20240815T170000
DTSTAMP:20260423T195716
CREATED:20230706T204751Z
LAST-MODIFIED:20260330T210823Z
UID:10000635-1723734000-1723741200@annville.lclibs.org
SUMMARY:Annville Free Library Chess Club
DESCRIPTION:Join us on Thursdays from 3-5pm for Chess Club. No registration is required. All ages and skill levels are welcome!
URL:https://annville.lclibs.org/event/afl-chess-club-2/2024-08-15/
LOCATION:Annville Free Library\, 216 E Main St\, Annville\, PA\, 17003\, United States
CATEGORIES:Adults,Annville Free Library,Children,Interest Group,Seniors,Teens
ORGANIZER;CN="Ronice Nolt":MAILTO:rnolt@lclibs.org
GEO:40.3296151;-76.5120963
X-APPLE-STRUCTURED-LOCATION;VALUE=URI;X-ADDRESS=Annville Free Library 216 E Main St Annville PA 17003 United States;X-APPLE-RADIUS=500;X-TITLE=216 E Main St:geo:-76.5120963,40.3296151
END:VEVENT
BEGIN:VEVENT
DTSTART;TZID=America/New_York:20240814T180000
DTEND;TZID=America/New_York:20240814T190000
DTSTAMP:20260423T195716
CREATED:20230706T205128Z
LAST-MODIFIED:20251019T170016Z
UID:10000627-1723658400-1723662000@annville.lclibs.org
SUMMARY:AA Sober Agnostics Meeting @ Annville Free Library
DESCRIPTION:Join us on Wednesdays from 6-7pm for Sober Agnostics. This meeting is held on the first floor in the our community room. \nFor more information about Alcoholics Anonymous in Lebanon County\, please visit: www.lebanonpaaa.org  \nOr call the local 24-hour hotline: 223-322-9305
URL:https://annville.lclibs.org/event/aa-sober-agnostics-meeting-afl-2/2024-08-14/
LOCATION:Annville Free Library\, 216 E Main St\, Annville\, PA\, 17003\, United States
CATEGORIES:Adult program,Annville Free Library,Seniors
ORGANIZER;CN="Ronice Nolt":MAILTO:rnolt@lclibs.org
GEO:40.3296151;-76.5120963
X-APPLE-STRUCTURED-LOCATION;VALUE=URI;X-ADDRESS=Annville Free Library 216 E Main St Annville PA 17003 United States;X-APPLE-RADIUS=500;X-TITLE=216 E Main St:geo:-76.5120963,40.3296151
END:VEVENT
BEGIN:VEVENT
DTSTART;TZID=America/New_York:20240813T180000
DTEND;TZID=America/New_York:20240813T200000
DTSTAMP:20260423T195716
CREATED:20240207T065656Z
LAST-MODIFIED:20241229T235342Z
UID:10002755-1723572000-1723579200@annville.lclibs.org
SUMMARY:AFL Knitters
DESCRIPTION:AFL Knitting Group\nThe AFL Knitting Group meets at the library every Tuesday @ 6:00 pm\nAll knitting levels are welcome!\nBring the project you are working on.
URL:https://annville.lclibs.org/event/afl-knitters/2024-08-13/
LOCATION:Annville Free Library\, 216 E Main St\, Annville\, PA\, 17003\, United States
CATEGORIES:Annville Free Library,Interest Group
GEO:40.3296151;-76.5120963
X-APPLE-STRUCTURED-LOCATION;VALUE=URI;X-ADDRESS=Annville Free Library 216 E Main St Annville PA 17003 United States;X-APPLE-RADIUS=500;X-TITLE=216 E Main St:geo:-76.5120963,40.3296151
END:VEVENT
BEGIN:VEVENT
DTSTART;TZID=America/New_York:20240808T150000
DTEND;TZID=America/New_York:20240808T170000
DTSTAMP:20260423T195716
CREATED:20230706T204751Z
LAST-MODIFIED:20260330T210823Z
UID:10000634-1723129200-1723136400@annville.lclibs.org
SUMMARY:Annville Free Library Chess Club
DESCRIPTION:Join us on Thursdays from 3-5pm for Chess Club. No registration is required. All ages and skill levels are welcome!
URL:https://annville.lclibs.org/event/afl-chess-club-2/2024-08-08/
LOCATION:Annville Free Library\, 216 E Main St\, Annville\, PA\, 17003\, United States
CATEGORIES:Adults,Annville Free Library,Children,Interest Group,Seniors,Teens
ORGANIZER;CN="Ronice Nolt":MAILTO:rnolt@lclibs.org
GEO:40.3296151;-76.5120963
X-APPLE-STRUCTURED-LOCATION;VALUE=URI;X-ADDRESS=Annville Free Library 216 E Main St Annville PA 17003 United States;X-APPLE-RADIUS=500;X-TITLE=216 E Main St:geo:-76.5120963,40.3296151
END:VEVENT
BEGIN:VEVENT
DTSTART;TZID=America/New_York:20240807T180000
DTEND;TZID=America/New_York:20240807T190000
DTSTAMP:20260423T195716
CREATED:20230706T205128Z
LAST-MODIFIED:20251019T170016Z
UID:10000626-1723053600-1723057200@annville.lclibs.org
SUMMARY:AA Sober Agnostics Meeting @ Annville Free Library
DESCRIPTION:Join us on Wednesdays from 6-7pm for Sober Agnostics. This meeting is held on the first floor in the our community room. \nFor more information about Alcoholics Anonymous in Lebanon County\, please visit: www.lebanonpaaa.org  \nOr call the local 24-hour hotline: 223-322-9305
URL:https://annville.lclibs.org/event/aa-sober-agnostics-meeting-afl-2/2024-08-07/
LOCATION:Annville Free Library\, 216 E Main St\, Annville\, PA\, 17003\, United States
CATEGORIES:Adult program,Annville Free Library,Seniors
ORGANIZER;CN="Ronice Nolt":MAILTO:rnolt@lclibs.org
GEO:40.3296151;-76.5120963
X-APPLE-STRUCTURED-LOCATION;VALUE=URI;X-ADDRESS=Annville Free Library 216 E Main St Annville PA 17003 United States;X-APPLE-RADIUS=500;X-TITLE=216 E Main St:geo:-76.5120963,40.3296151
END:VEVENT
BEGIN:VEVENT
DTSTART;TZID=America/New_York:20240806T180000
DTEND;TZID=America/New_York:20240806T200000
DTSTAMP:20260423T195716
CREATED:20240207T065656Z
LAST-MODIFIED:20241229T235342Z
UID:10002754-1722967200-1722974400@annville.lclibs.org
SUMMARY:AFL Knitters
DESCRIPTION:AFL Knitting Group\nThe AFL Knitting Group meets at the library every Tuesday @ 6:00 pm\nAll knitting levels are welcome!\nBring the project you are working on.
URL:https://annville.lclibs.org/event/afl-knitters/2024-08-06/
LOCATION:Annville Free Library\, 216 E Main St\, Annville\, PA\, 17003\, United States
CATEGORIES:Annville Free Library,Interest Group
GEO:40.3296151;-76.5120963
X-APPLE-STRUCTURED-LOCATION;VALUE=URI;X-ADDRESS=Annville Free Library 216 E Main St Annville PA 17003 United States;X-APPLE-RADIUS=500;X-TITLE=216 E Main St:geo:-76.5120963,40.3296151
END:VEVENT
BEGIN:VEVENT
DTSTART;TZID=America/New_York:20240801T150000
DTEND;TZID=America/New_York:20240801T170000
DTSTAMP:20260423T195716
CREATED:20230706T204751Z
LAST-MODIFIED:20260330T210823Z
UID:10000633-1722524400-1722531600@annville.lclibs.org
SUMMARY:Annville Free Library Chess Club
DESCRIPTION:Join us on Thursdays from 3-5pm for Chess Club. No registration is required. All ages and skill levels are welcome!
URL:https://annville.lclibs.org/event/afl-chess-club-2/2024-08-01/
LOCATION:Annville Free Library\, 216 E Main St\, Annville\, PA\, 17003\, United States
CATEGORIES:Adults,Annville Free Library,Children,Interest Group,Seniors,Teens
ORGANIZER;CN="Ronice Nolt":MAILTO:rnolt@lclibs.org
GEO:40.3296151;-76.5120963
X-APPLE-STRUCTURED-LOCATION;VALUE=URI;X-ADDRESS=Annville Free Library 216 E Main St Annville PA 17003 United States;X-APPLE-RADIUS=500;X-TITLE=216 E Main St:geo:-76.5120963,40.3296151
END:VEVENT
BEGIN:VEVENT
DTSTART;TZID=America/New_York:20240731T180000
DTEND;TZID=America/New_York:20240731T190000
DTSTAMP:20260423T195716
CREATED:20230706T205128Z
LAST-MODIFIED:20251019T170016Z
UID:10000625-1722448800-1722452400@annville.lclibs.org
SUMMARY:AA Sober Agnostics Meeting @ Annville Free Library
DESCRIPTION:Join us on Wednesdays from 6-7pm for Sober Agnostics. This meeting is held on the first floor in the our community room. \nFor more information about Alcoholics Anonymous in Lebanon County\, please visit: www.lebanonpaaa.org  \nOr call the local 24-hour hotline: 223-322-9305
URL:https://annville.lclibs.org/event/aa-sober-agnostics-meeting-afl-2/2024-07-31/
LOCATION:Annville Free Library\, 216 E Main St\, Annville\, PA\, 17003\, United States
CATEGORIES:Adult program,Annville Free Library,Seniors
ORGANIZER;CN="Ronice Nolt":MAILTO:rnolt@lclibs.org
GEO:40.3296151;-76.5120963
X-APPLE-STRUCTURED-LOCATION;VALUE=URI;X-ADDRESS=Annville Free Library 216 E Main St Annville PA 17003 United States;X-APPLE-RADIUS=500;X-TITLE=216 E Main St:geo:-76.5120963,40.3296151
END:VEVENT
BEGIN:VEVENT
DTSTART;TZID=America/New_York:20240730T180000
DTEND;TZID=America/New_York:20240730T200000
DTSTAMP:20260423T195716
CREATED:20240207T065656Z
LAST-MODIFIED:20241229T235342Z
UID:10002753-1722362400-1722369600@annville.lclibs.org
SUMMARY:AFL Knitters
DESCRIPTION:AFL Knitting Group\nThe AFL Knitting Group meets at the library every Tuesday @ 6:00 pm\nAll knitting levels are welcome!\nBring the project you are working on.
URL:https://annville.lclibs.org/event/afl-knitters/2024-07-30/
LOCATION:Annville Free Library\, 216 E Main St\, Annville\, PA\, 17003\, United States
CATEGORIES:Annville Free Library,Interest Group
GEO:40.3296151;-76.5120963
X-APPLE-STRUCTURED-LOCATION;VALUE=URI;X-ADDRESS=Annville Free Library 216 E Main St Annville PA 17003 United States;X-APPLE-RADIUS=500;X-TITLE=216 E Main St:geo:-76.5120963,40.3296151
END:VEVENT
BEGIN:VEVENT
DTSTART;TZID=America/New_York:20240725T150000
DTEND;TZID=America/New_York:20240725T170000
DTSTAMP:20260423T195716
CREATED:20230706T204751Z
LAST-MODIFIED:20260330T210823Z
UID:10000632-1721919600-1721926800@annville.lclibs.org
SUMMARY:Annville Free Library Chess Club
DESCRIPTION:Join us on Thursdays from 3-5pm for Chess Club. No registration is required. All ages and skill levels are welcome!
URL:https://annville.lclibs.org/event/afl-chess-club-2/2024-07-25/
LOCATION:Annville Free Library\, 216 E Main St\, Annville\, PA\, 17003\, United States
CATEGORIES:Adults,Annville Free Library,Children,Interest Group,Seniors,Teens
ORGANIZER;CN="Ronice Nolt":MAILTO:rnolt@lclibs.org
GEO:40.3296151;-76.5120963
X-APPLE-STRUCTURED-LOCATION;VALUE=URI;X-ADDRESS=Annville Free Library 216 E Main St Annville PA 17003 United States;X-APPLE-RADIUS=500;X-TITLE=216 E Main St:geo:-76.5120963,40.3296151
END:VEVENT
BEGIN:VEVENT
DTSTART;TZID=America/New_York:20240724T180000
DTEND;TZID=America/New_York:20240724T190000
DTSTAMP:20260423T195716
CREATED:20230706T205128Z
LAST-MODIFIED:20251019T170016Z
UID:10000624-1721844000-1721847600@annville.lclibs.org
SUMMARY:AA Sober Agnostics Meeting @ Annville Free Library
DESCRIPTION:Join us on Wednesdays from 6-7pm for Sober Agnostics. This meeting is held on the first floor in the our community room. \nFor more information about Alcoholics Anonymous in Lebanon County\, please visit: www.lebanonpaaa.org  \nOr call the local 24-hour hotline: 223-322-9305
URL:https://annville.lclibs.org/event/aa-sober-agnostics-meeting-afl-2/2024-07-24/
LOCATION:Annville Free Library\, 216 E Main St\, Annville\, PA\, 17003\, United States
CATEGORIES:Adult program,Annville Free Library,Seniors
ORGANIZER;CN="Ronice Nolt":MAILTO:rnolt@lclibs.org
GEO:40.3296151;-76.5120963
X-APPLE-STRUCTURED-LOCATION;VALUE=URI;X-ADDRESS=Annville Free Library 216 E Main St Annville PA 17003 United States;X-APPLE-RADIUS=500;X-TITLE=216 E Main St:geo:-76.5120963,40.3296151
END:VEVENT
BEGIN:VEVENT
DTSTART;TZID=America/New_York:20240723T180000
DTEND;TZID=America/New_York:20240723T200000
DTSTAMP:20260423T195716
CREATED:20240207T065656Z
LAST-MODIFIED:20241229T235342Z
UID:10002752-1721757600-1721764800@annville.lclibs.org
SUMMARY:AFL Knitters
DESCRIPTION:AFL Knitting Group\nThe AFL Knitting Group meets at the library every Tuesday @ 6:00 pm\nAll knitting levels are welcome!\nBring the project you are working on.
URL:https://annville.lclibs.org/event/afl-knitters/2024-07-23/
LOCATION:Annville Free Library\, 216 E Main St\, Annville\, PA\, 17003\, United States
CATEGORIES:Annville Free Library,Interest Group
GEO:40.3296151;-76.5120963
X-APPLE-STRUCTURED-LOCATION;VALUE=URI;X-ADDRESS=Annville Free Library 216 E Main St Annville PA 17003 United States;X-APPLE-RADIUS=500;X-TITLE=216 E Main St:geo:-76.5120963,40.3296151
END:VEVENT
BEGIN:VEVENT
DTSTART;TZID=America/New_York:20240718T150000
DTEND;TZID=America/New_York:20240718T170000
DTSTAMP:20260423T195716
CREATED:20230706T204751Z
LAST-MODIFIED:20260330T210823Z
UID:10000631-1721314800-1721322000@annville.lclibs.org
SUMMARY:Annville Free Library Chess Club
DESCRIPTION:Join us on Thursdays from 3-5pm for Chess Club. No registration is required. All ages and skill levels are welcome!
URL:https://annville.lclibs.org/event/afl-chess-club-2/2024-07-18/
LOCATION:Annville Free Library\, 216 E Main St\, Annville\, PA\, 17003\, United States
CATEGORIES:Adults,Annville Free Library,Children,Interest Group,Seniors,Teens
ORGANIZER;CN="Ronice Nolt":MAILTO:rnolt@lclibs.org
GEO:40.3296151;-76.5120963
X-APPLE-STRUCTURED-LOCATION;VALUE=URI;X-ADDRESS=Annville Free Library 216 E Main St Annville PA 17003 United States;X-APPLE-RADIUS=500;X-TITLE=216 E Main St:geo:-76.5120963,40.3296151
END:VEVENT
BEGIN:VEVENT
DTSTART;TZID=America/New_York:20240717T180000
DTEND;TZID=America/New_York:20240717T190000
DTSTAMP:20260423T195716
CREATED:20230706T205128Z
LAST-MODIFIED:20251019T170016Z
UID:10000623-1721239200-1721242800@annville.lclibs.org
SUMMARY:AA Sober Agnostics Meeting @ Annville Free Library
DESCRIPTION:Join us on Wednesdays from 6-7pm for Sober Agnostics. This meeting is held on the first floor in the our community room. \nFor more information about Alcoholics Anonymous in Lebanon County\, please visit: www.lebanonpaaa.org  \nOr call the local 24-hour hotline: 223-322-9305
URL:https://annville.lclibs.org/event/aa-sober-agnostics-meeting-afl-2/2024-07-17/
LOCATION:Annville Free Library\, 216 E Main St\, Annville\, PA\, 17003\, United States
CATEGORIES:Adult program,Annville Free Library,Seniors
ORGANIZER;CN="Ronice Nolt":MAILTO:rnolt@lclibs.org
GEO:40.3296151;-76.5120963
X-APPLE-STRUCTURED-LOCATION;VALUE=URI;X-ADDRESS=Annville Free Library 216 E Main St Annville PA 17003 United States;X-APPLE-RADIUS=500;X-TITLE=216 E Main St:geo:-76.5120963,40.3296151
END:VEVENT
BEGIN:VEVENT
DTSTART;TZID=America/New_York:20240716T180000
DTEND;TZID=America/New_York:20240716T200000
DTSTAMP:20260423T195716
CREATED:20240207T065656Z
LAST-MODIFIED:20241229T235342Z
UID:10002751-1721152800-1721160000@annville.lclibs.org
SUMMARY:AFL Knitters
DESCRIPTION:AFL Knitting Group\nThe AFL Knitting Group meets at the library every Tuesday @ 6:00 pm\nAll knitting levels are welcome!\nBring the project you are working on.
URL:https://annville.lclibs.org/event/afl-knitters/2024-07-16/
LOCATION:Annville Free Library\, 216 E Main St\, Annville\, PA\, 17003\, United States
CATEGORIES:Annville Free Library,Interest Group
GEO:40.3296151;-76.5120963
X-APPLE-STRUCTURED-LOCATION;VALUE=URI;X-ADDRESS=Annville Free Library 216 E Main St Annville PA 17003 United States;X-APPLE-RADIUS=500;X-TITLE=216 E Main St:geo:-76.5120963,40.3296151
END:VEVENT
BEGIN:VEVENT
DTSTART;TZID=America/New_York:20240711T150000
DTEND;TZID=America/New_York:20240711T170000
DTSTAMP:20260423T195716
CREATED:20230706T204751Z
LAST-MODIFIED:20260330T210823Z
UID:10000630-1720710000-1720717200@annville.lclibs.org
SUMMARY:Annville Free Library Chess Club
DESCRIPTION:Join us on Thursdays from 3-5pm for Chess Club. No registration is required. All ages and skill levels are welcome!
URL:https://annville.lclibs.org/event/afl-chess-club-2/2024-07-11/
LOCATION:Annville Free Library\, 216 E Main St\, Annville\, PA\, 17003\, United States
CATEGORIES:Adults,Annville Free Library,Children,Interest Group,Seniors,Teens
ORGANIZER;CN="Ronice Nolt":MAILTO:rnolt@lclibs.org
GEO:40.3296151;-76.5120963
X-APPLE-STRUCTURED-LOCATION;VALUE=URI;X-ADDRESS=Annville Free Library 216 E Main St Annville PA 17003 United States;X-APPLE-RADIUS=500;X-TITLE=216 E Main St:geo:-76.5120963,40.3296151
END:VEVENT
BEGIN:VEVENT
DTSTART;TZID=America/New_York:20240710T180000
DTEND;TZID=America/New_York:20240710T190000
DTSTAMP:20260423T195716
CREATED:20230706T205128Z
LAST-MODIFIED:20251019T170016Z
UID:10000622-1720634400-1720638000@annville.lclibs.org
SUMMARY:AA Sober Agnostics Meeting @ Annville Free Library
DESCRIPTION:Join us on Wednesdays from 6-7pm for Sober Agnostics. This meeting is held on the first floor in the our community room. \nFor more information about Alcoholics Anonymous in Lebanon County\, please visit: www.lebanonpaaa.org  \nOr call the local 24-hour hotline: 223-322-9305
URL:https://annville.lclibs.org/event/aa-sober-agnostics-meeting-afl-2/2024-07-10/
LOCATION:Annville Free Library\, 216 E Main St\, Annville\, PA\, 17003\, United States
CATEGORIES:Adult program,Annville Free Library,Seniors
ORGANIZER;CN="Ronice Nolt":MAILTO:rnolt@lclibs.org
GEO:40.3296151;-76.5120963
X-APPLE-STRUCTURED-LOCATION;VALUE=URI;X-ADDRESS=Annville Free Library 216 E Main St Annville PA 17003 United States;X-APPLE-RADIUS=500;X-TITLE=216 E Main St:geo:-76.5120963,40.3296151
END:VEVENT
BEGIN:VEVENT
DTSTART;TZID=America/New_York:20240709T180000
DTEND;TZID=America/New_York:20240709T200000
DTSTAMP:20260423T195716
CREATED:20240207T065656Z
LAST-MODIFIED:20241229T235342Z
UID:10002750-1720548000-1720555200@annville.lclibs.org
SUMMARY:AFL Knitters
DESCRIPTION:AFL Knitting Group\nThe AFL Knitting Group meets at the library every Tuesday @ 6:00 pm\nAll knitting levels are welcome!\nBring the project you are working on.
URL:https://annville.lclibs.org/event/afl-knitters/2024-07-09/
LOCATION:Annville Free Library\, 216 E Main St\, Annville\, PA\, 17003\, United States
CATEGORIES:Annville Free Library,Interest Group
GEO:40.3296151;-76.5120963
X-APPLE-STRUCTURED-LOCATION;VALUE=URI;X-ADDRESS=Annville Free Library 216 E Main St Annville PA 17003 United States;X-APPLE-RADIUS=500;X-TITLE=216 E Main St:geo:-76.5120963,40.3296151
END:VEVENT
BEGIN:VEVENT
DTSTART;TZID=America/New_York:20240704T150000
DTEND;TZID=America/New_York:20240704T170000
DTSTAMP:20260423T195716
CREATED:20230706T204751Z
LAST-MODIFIED:20260330T210823Z
UID:10003928-1720105200-1720112400@annville.lclibs.org
SUMMARY:Annville Free Library Chess Club
DESCRIPTION:Join us on Thursdays from 3-5pm for Chess Club. No registration is required. All ages and skill levels are welcome!
URL:https://annville.lclibs.org/event/afl-chess-club-2/2024-07-04/
LOCATION:Annville Free Library\, 216 E Main St\, Annville\, PA\, 17003\, United States
CATEGORIES:Adults,Annville Free Library,Children,Interest Group,Seniors,Teens
ORGANIZER;CN="Ronice Nolt":MAILTO:rnolt@lclibs.org
GEO:40.3296151;-76.5120963
X-APPLE-STRUCTURED-LOCATION;VALUE=URI;X-ADDRESS=Annville Free Library 216 E Main St Annville PA 17003 United States;X-APPLE-RADIUS=500;X-TITLE=216 E Main St:geo:-76.5120963,40.3296151
END:VEVENT
BEGIN:VEVENT
DTSTART;TZID=America/New_York:20240703T180000
DTEND;TZID=America/New_York:20240703T190000
DTSTAMP:20260423T195716
CREATED:20230706T205128Z
LAST-MODIFIED:20251019T170016Z
UID:10003504-1720029600-1720033200@annville.lclibs.org
SUMMARY:AA Sober Agnostics Meeting @ Annville Free Library
DESCRIPTION:Join us on Wednesdays from 6-7pm for Sober Agnostics. This meeting is held on the first floor in the our community room. \nFor more information about Alcoholics Anonymous in Lebanon County\, please visit: www.lebanonpaaa.org  \nOr call the local 24-hour hotline: 223-322-9305
URL:https://annville.lclibs.org/event/aa-sober-agnostics-meeting-afl-2/2024-07-03/
LOCATION:Annville Free Library\, 216 E Main St\, Annville\, PA\, 17003\, United States
CATEGORIES:Adult program,Annville Free Library,Seniors
ORGANIZER;CN="Ronice Nolt":MAILTO:rnolt@lclibs.org
GEO:40.3296151;-76.5120963
X-APPLE-STRUCTURED-LOCATION;VALUE=URI;X-ADDRESS=Annville Free Library 216 E Main St Annville PA 17003 United States;X-APPLE-RADIUS=500;X-TITLE=216 E Main St:geo:-76.5120963,40.3296151
END:VEVENT
BEGIN:VEVENT
DTSTART;TZID=America/New_York:20240702T180000
DTEND;TZID=America/New_York:20240702T200000
DTSTAMP:20260423T195716
CREATED:20240207T065656Z
LAST-MODIFIED:20241229T235342Z
UID:10002749-1719943200-1719950400@annville.lclibs.org
SUMMARY:AFL Knitters
DESCRIPTION:AFL Knitting Group\nThe AFL Knitting Group meets at the library every Tuesday @ 6:00 pm\nAll knitting levels are welcome!\nBring the project you are working on.
URL:https://annville.lclibs.org/event/afl-knitters/2024-07-02/
LOCATION:Annville Free Library\, 216 E Main St\, Annville\, PA\, 17003\, United States
CATEGORIES:Annville Free Library,Interest Group
GEO:40.3296151;-76.5120963
X-APPLE-STRUCTURED-LOCATION;VALUE=URI;X-ADDRESS=Annville Free Library 216 E Main St Annville PA 17003 United States;X-APPLE-RADIUS=500;X-TITLE=216 E Main St:geo:-76.5120963,40.3296151
END:VEVENT
BEGIN:VEVENT
DTSTART;TZID=America/New_York:20240627T150000
DTEND;TZID=America/New_York:20240627T170000
DTSTAMP:20260423T195716
CREATED:20230706T204751Z
LAST-MODIFIED:20260330T210823Z
UID:10000523-1719500400-1719507600@annville.lclibs.org
SUMMARY:Annville Free Library Chess Club
DESCRIPTION:Join us on Thursdays from 3-5pm for Chess Club. No registration is required. All ages and skill levels are welcome!
URL:https://annville.lclibs.org/event/afl-chess-club-2/2024-06-27/
LOCATION:Annville Free Library\, 216 E Main St\, Annville\, PA\, 17003\, United States
CATEGORIES:Adults,Annville Free Library,Children,Interest Group,Seniors,Teens
ORGANIZER;CN="Ronice Nolt":MAILTO:rnolt@lclibs.org
GEO:40.3296151;-76.5120963
X-APPLE-STRUCTURED-LOCATION;VALUE=URI;X-ADDRESS=Annville Free Library 216 E Main St Annville PA 17003 United States;X-APPLE-RADIUS=500;X-TITLE=216 E Main St:geo:-76.5120963,40.3296151
END:VEVENT
BEGIN:VEVENT
DTSTART;TZID=America/New_York:20240626T180000
DTEND;TZID=America/New_York:20240626T190000
DTSTAMP:20260423T195716
CREATED:20230706T205128Z
LAST-MODIFIED:20251019T170016Z
UID:10000574-1719424800-1719428400@annville.lclibs.org
SUMMARY:AA Sober Agnostics Meeting @ Annville Free Library
DESCRIPTION:Join us on Wednesdays from 6-7pm for Sober Agnostics. This meeting is held on the first floor in the our community room. \nFor more information about Alcoholics Anonymous in Lebanon County\, please visit: www.lebanonpaaa.org  \nOr call the local 24-hour hotline: 223-322-9305
URL:https://annville.lclibs.org/event/aa-sober-agnostics-meeting-afl-2/2024-06-26/
LOCATION:Annville Free Library\, 216 E Main St\, Annville\, PA\, 17003\, United States
CATEGORIES:Adult program,Annville Free Library,Seniors
ORGANIZER;CN="Ronice Nolt":MAILTO:rnolt@lclibs.org
GEO:40.3296151;-76.5120963
X-APPLE-STRUCTURED-LOCATION;VALUE=URI;X-ADDRESS=Annville Free Library 216 E Main St Annville PA 17003 United States;X-APPLE-RADIUS=500;X-TITLE=216 E Main St:geo:-76.5120963,40.3296151
END:VEVENT
BEGIN:VEVENT
DTSTART;TZID=America/New_York:20240625T180000
DTEND;TZID=America/New_York:20240625T200000
DTSTAMP:20260423T195716
CREATED:20240207T065656Z
LAST-MODIFIED:20241229T235342Z
UID:10002748-1719338400-1719345600@annville.lclibs.org
SUMMARY:AFL Knitters
DESCRIPTION:AFL Knitting Group\nThe AFL Knitting Group meets at the library every Tuesday @ 6:00 pm\nAll knitting levels are welcome!\nBring the project you are working on.
URL:https://annville.lclibs.org/event/afl-knitters/2024-06-25/
LOCATION:Annville Free Library\, 216 E Main St\, Annville\, PA\, 17003\, United States
CATEGORIES:Annville Free Library,Interest Group
GEO:40.3296151;-76.5120963
X-APPLE-STRUCTURED-LOCATION;VALUE=URI;X-ADDRESS=Annville Free Library 216 E Main St Annville PA 17003 United States;X-APPLE-RADIUS=500;X-TITLE=216 E Main St:geo:-76.5120963,40.3296151
END:VEVENT
END:VCALENDAR