BEGIN:VCALENDAR
VERSION:2.0
PRODID:-//Annville Free Library - ECPv6.15.17.1//NONSGML v1.0//EN
CALSCALE:GREGORIAN
METHOD:PUBLISH
X-ORIGINAL-URL:https://annville.lclibs.org
X-WR-CALDESC:Events for Annville Free Library
REFRESH-INTERVAL;VALUE=DURATION:PT1H
X-Robots-Tag:noindex
X-PUBLISHED-TTL:PT1H
BEGIN:VTIMEZONE
TZID:America/New_York
BEGIN:DAYLIGHT
TZOFFSETFROM:-0500
TZOFFSETTO:-0400
TZNAME:EDT
DTSTART:20230312T070000
END:DAYLIGHT
BEGIN:STANDARD
TZOFFSETFROM:-0400
TZOFFSETTO:-0500
TZNAME:EST
DTSTART:20231105T060000
END:STANDARD
BEGIN:DAYLIGHT
TZOFFSETFROM:-0500
TZOFFSETTO:-0400
TZNAME:EDT
DTSTART:20240310T070000
END:DAYLIGHT
BEGIN:STANDARD
TZOFFSETFROM:-0400
TZOFFSETTO:-0500
TZNAME:EST
DTSTART:20241103T060000
END:STANDARD
BEGIN:DAYLIGHT
TZOFFSETFROM:-0500
TZOFFSETTO:-0400
TZNAME:EDT
DTSTART:20250309T070000
END:DAYLIGHT
BEGIN:STANDARD
TZOFFSETFROM:-0400
TZOFFSETTO:-0500
TZNAME:EST
DTSTART:20251102T060000
END:STANDARD
END:VTIMEZONE
BEGIN:VEVENT
DTSTART;TZID=America/New_York:20241023T180000
DTEND;TZID=America/New_York:20241023T190000
DTSTAMP:20260423T160649
CREATED:20230706T205128Z
LAST-MODIFIED:20251019T170016Z
UID:10001401-1729706400-1729710000@annville.lclibs.org
SUMMARY:AA Sober Agnostics Meeting @ Annville Free Library
DESCRIPTION:Join us on Wednesdays from 6-7pm for Sober Agnostics. This meeting is held on the first floor in the our community room. \nFor more information about Alcoholics Anonymous in Lebanon County\, please visit: www.lebanonpaaa.org  \nOr call the local 24-hour hotline: 223-322-9305
URL:https://annville.lclibs.org/event/aa-sober-agnostics-meeting-afl-2/2024-10-23/
LOCATION:Annville Free Library\, 216 E Main St\, Annville\, PA\, 17003\, United States
CATEGORIES:Adult program,Annville Free Library,Seniors
ORGANIZER;CN="Ronice Nolt":MAILTO:rnolt@lclibs.org
GEO:40.3296151;-76.5120963
X-APPLE-STRUCTURED-LOCATION;VALUE=URI;X-ADDRESS=Annville Free Library 216 E Main St Annville PA 17003 United States;X-APPLE-RADIUS=500;X-TITLE=216 E Main St:geo:-76.5120963,40.3296151
END:VEVENT
BEGIN:VEVENT
DTSTART;TZID=America/New_York:20241022T180000
DTEND;TZID=America/New_York:20241022T200000
DTSTAMP:20260423T160649
CREATED:20240207T065656Z
LAST-MODIFIED:20241229T235342Z
UID:10002765-1729620000-1729627200@annville.lclibs.org
SUMMARY:AFL Knitters
DESCRIPTION:AFL Knitting Group\nThe AFL Knitting Group meets at the library every Tuesday @ 6:00 pm\nAll knitting levels are welcome!\nBring the project you are working on.
URL:https://annville.lclibs.org/event/afl-knitters/2024-10-22/
LOCATION:Annville Free Library\, 216 E Main St\, Annville\, PA\, 17003\, United States
CATEGORIES:Annville Free Library,Interest Group
GEO:40.3296151;-76.5120963
X-APPLE-STRUCTURED-LOCATION;VALUE=URI;X-ADDRESS=Annville Free Library 216 E Main St Annville PA 17003 United States;X-APPLE-RADIUS=500;X-TITLE=216 E Main St:geo:-76.5120963,40.3296151
END:VEVENT
BEGIN:VEVENT
DTSTART;TZID=America/New_York:20241017T150000
DTEND;TZID=America/New_York:20241017T170000
DTSTAMP:20260423T160649
CREATED:20230706T204751Z
LAST-MODIFIED:20260330T210823Z
UID:10001182-1729177200-1729184400@annville.lclibs.org
SUMMARY:Annville Free Library Chess Club
DESCRIPTION:Join us on Thursdays from 3-5pm for Chess Club. No registration is required. All ages and skill levels are welcome!
URL:https://annville.lclibs.org/event/afl-chess-club-2/2024-10-17/
LOCATION:Annville Free Library\, 216 E Main St\, Annville\, PA\, 17003\, United States
CATEGORIES:Adults,Annville Free Library,Children,Interest Group,Seniors,Teens
ORGANIZER;CN="Ronice Nolt":MAILTO:rnolt@lclibs.org
GEO:40.3296151;-76.5120963
X-APPLE-STRUCTURED-LOCATION;VALUE=URI;X-ADDRESS=Annville Free Library 216 E Main St Annville PA 17003 United States;X-APPLE-RADIUS=500;X-TITLE=216 E Main St:geo:-76.5120963,40.3296151
END:VEVENT
BEGIN:VEVENT
DTSTART;TZID=America/New_York:20241016T180000
DTEND;TZID=America/New_York:20241016T190000
DTSTAMP:20260423T160649
CREATED:20230706T205128Z
LAST-MODIFIED:20251019T170016Z
UID:10001400-1729101600-1729105200@annville.lclibs.org
SUMMARY:AA Sober Agnostics Meeting @ Annville Free Library
DESCRIPTION:Join us on Wednesdays from 6-7pm for Sober Agnostics. This meeting is held on the first floor in the our community room. \nFor more information about Alcoholics Anonymous in Lebanon County\, please visit: www.lebanonpaaa.org  \nOr call the local 24-hour hotline: 223-322-9305
URL:https://annville.lclibs.org/event/aa-sober-agnostics-meeting-afl-2/2024-10-16/
LOCATION:Annville Free Library\, 216 E Main St\, Annville\, PA\, 17003\, United States
CATEGORIES:Adult program,Annville Free Library,Seniors
ORGANIZER;CN="Ronice Nolt":MAILTO:rnolt@lclibs.org
GEO:40.3296151;-76.5120963
X-APPLE-STRUCTURED-LOCATION;VALUE=URI;X-ADDRESS=Annville Free Library 216 E Main St Annville PA 17003 United States;X-APPLE-RADIUS=500;X-TITLE=216 E Main St:geo:-76.5120963,40.3296151
END:VEVENT
BEGIN:VEVENT
DTSTART;TZID=America/New_York:20241015T180000
DTEND;TZID=America/New_York:20241015T200000
DTSTAMP:20260423T160649
CREATED:20240207T065656Z
LAST-MODIFIED:20241229T235342Z
UID:10002764-1729015200-1729022400@annville.lclibs.org
SUMMARY:AFL Knitters
DESCRIPTION:AFL Knitting Group\nThe AFL Knitting Group meets at the library every Tuesday @ 6:00 pm\nAll knitting levels are welcome!\nBring the project you are working on.
URL:https://annville.lclibs.org/event/afl-knitters/2024-10-15/
LOCATION:Annville Free Library\, 216 E Main St\, Annville\, PA\, 17003\, United States
CATEGORIES:Annville Free Library,Interest Group
GEO:40.3296151;-76.5120963
X-APPLE-STRUCTURED-LOCATION;VALUE=URI;X-ADDRESS=Annville Free Library 216 E Main St Annville PA 17003 United States;X-APPLE-RADIUS=500;X-TITLE=216 E Main St:geo:-76.5120963,40.3296151
END:VEVENT
BEGIN:VEVENT
DTSTART;TZID=America/New_York:20241010T150000
DTEND;TZID=America/New_York:20241010T170000
DTSTAMP:20260423T160649
CREATED:20230706T204751Z
LAST-MODIFIED:20260330T210823Z
UID:10001181-1728572400-1728579600@annville.lclibs.org
SUMMARY:Annville Free Library Chess Club
DESCRIPTION:Join us on Thursdays from 3-5pm for Chess Club. No registration is required. All ages and skill levels are welcome!
URL:https://annville.lclibs.org/event/afl-chess-club-2/2024-10-10/
LOCATION:Annville Free Library\, 216 E Main St\, Annville\, PA\, 17003\, United States
CATEGORIES:Adults,Annville Free Library,Children,Interest Group,Seniors,Teens
ORGANIZER;CN="Ronice Nolt":MAILTO:rnolt@lclibs.org
GEO:40.3296151;-76.5120963
X-APPLE-STRUCTURED-LOCATION;VALUE=URI;X-ADDRESS=Annville Free Library 216 E Main St Annville PA 17003 United States;X-APPLE-RADIUS=500;X-TITLE=216 E Main St:geo:-76.5120963,40.3296151
END:VEVENT
BEGIN:VEVENT
DTSTART;TZID=America/New_York:20241009T180000
DTEND;TZID=America/New_York:20241009T190000
DTSTAMP:20260423T160649
CREATED:20230706T205128Z
LAST-MODIFIED:20251019T170016Z
UID:10001399-1728496800-1728500400@annville.lclibs.org
SUMMARY:AA Sober Agnostics Meeting @ Annville Free Library
DESCRIPTION:Join us on Wednesdays from 6-7pm for Sober Agnostics. This meeting is held on the first floor in the our community room. \nFor more information about Alcoholics Anonymous in Lebanon County\, please visit: www.lebanonpaaa.org  \nOr call the local 24-hour hotline: 223-322-9305
URL:https://annville.lclibs.org/event/aa-sober-agnostics-meeting-afl-2/2024-10-09/
LOCATION:Annville Free Library\, 216 E Main St\, Annville\, PA\, 17003\, United States
CATEGORIES:Adult program,Annville Free Library,Seniors
ORGANIZER;CN="Ronice Nolt":MAILTO:rnolt@lclibs.org
GEO:40.3296151;-76.5120963
X-APPLE-STRUCTURED-LOCATION;VALUE=URI;X-ADDRESS=Annville Free Library 216 E Main St Annville PA 17003 United States;X-APPLE-RADIUS=500;X-TITLE=216 E Main St:geo:-76.5120963,40.3296151
END:VEVENT
BEGIN:VEVENT
DTSTART;TZID=America/New_York:20241008T180000
DTEND;TZID=America/New_York:20241008T200000
DTSTAMP:20260423T160649
CREATED:20240207T065656Z
LAST-MODIFIED:20241229T235342Z
UID:10002763-1728410400-1728417600@annville.lclibs.org
SUMMARY:AFL Knitters
DESCRIPTION:AFL Knitting Group\nThe AFL Knitting Group meets at the library every Tuesday @ 6:00 pm\nAll knitting levels are welcome!\nBring the project you are working on.
URL:https://annville.lclibs.org/event/afl-knitters/2024-10-08/
LOCATION:Annville Free Library\, 216 E Main St\, Annville\, PA\, 17003\, United States
CATEGORIES:Annville Free Library,Interest Group
GEO:40.3296151;-76.5120963
X-APPLE-STRUCTURED-LOCATION;VALUE=URI;X-ADDRESS=Annville Free Library 216 E Main St Annville PA 17003 United States;X-APPLE-RADIUS=500;X-TITLE=216 E Main St:geo:-76.5120963,40.3296151
END:VEVENT
BEGIN:VEVENT
DTSTART;TZID=America/New_York:20241003T150000
DTEND;TZID=America/New_York:20241003T170000
DTSTAMP:20260423T160649
CREATED:20230706T204751Z
LAST-MODIFIED:20260330T210823Z
UID:10001180-1727967600-1727974800@annville.lclibs.org
SUMMARY:Annville Free Library Chess Club
DESCRIPTION:Join us on Thursdays from 3-5pm for Chess Club. No registration is required. All ages and skill levels are welcome!
URL:https://annville.lclibs.org/event/afl-chess-club-2/2024-10-03/
LOCATION:Annville Free Library\, 216 E Main St\, Annville\, PA\, 17003\, United States
CATEGORIES:Adults,Annville Free Library,Children,Interest Group,Seniors,Teens
ORGANIZER;CN="Ronice Nolt":MAILTO:rnolt@lclibs.org
GEO:40.3296151;-76.5120963
X-APPLE-STRUCTURED-LOCATION;VALUE=URI;X-ADDRESS=Annville Free Library 216 E Main St Annville PA 17003 United States;X-APPLE-RADIUS=500;X-TITLE=216 E Main St:geo:-76.5120963,40.3296151
END:VEVENT
BEGIN:VEVENT
DTSTART;TZID=America/New_York:20241002T180000
DTEND;TZID=America/New_York:20241002T190000
DTSTAMP:20260423T160649
CREATED:20230706T205128Z
LAST-MODIFIED:20251019T170016Z
UID:10001398-1727892000-1727895600@annville.lclibs.org
SUMMARY:AA Sober Agnostics Meeting @ Annville Free Library
DESCRIPTION:Join us on Wednesdays from 6-7pm for Sober Agnostics. This meeting is held on the first floor in the our community room. \nFor more information about Alcoholics Anonymous in Lebanon County\, please visit: www.lebanonpaaa.org  \nOr call the local 24-hour hotline: 223-322-9305
URL:https://annville.lclibs.org/event/aa-sober-agnostics-meeting-afl-2/2024-10-02/
LOCATION:Annville Free Library\, 216 E Main St\, Annville\, PA\, 17003\, United States
CATEGORIES:Adult program,Annville Free Library,Seniors
ORGANIZER;CN="Ronice Nolt":MAILTO:rnolt@lclibs.org
GEO:40.3296151;-76.5120963
X-APPLE-STRUCTURED-LOCATION;VALUE=URI;X-ADDRESS=Annville Free Library 216 E Main St Annville PA 17003 United States;X-APPLE-RADIUS=500;X-TITLE=216 E Main St:geo:-76.5120963,40.3296151
END:VEVENT
BEGIN:VEVENT
DTSTART;TZID=America/New_York:20241001T180000
DTEND;TZID=America/New_York:20241001T200000
DTSTAMP:20260423T160649
CREATED:20240207T065656Z
LAST-MODIFIED:20241229T235342Z
UID:10002762-1727805600-1727812800@annville.lclibs.org
SUMMARY:AFL Knitters
DESCRIPTION:AFL Knitting Group\nThe AFL Knitting Group meets at the library every Tuesday @ 6:00 pm\nAll knitting levels are welcome!\nBring the project you are working on.
URL:https://annville.lclibs.org/event/afl-knitters/2024-10-01/
LOCATION:Annville Free Library\, 216 E Main St\, Annville\, PA\, 17003\, United States
CATEGORIES:Annville Free Library,Interest Group
GEO:40.3296151;-76.5120963
X-APPLE-STRUCTURED-LOCATION;VALUE=URI;X-ADDRESS=Annville Free Library 216 E Main St Annville PA 17003 United States;X-APPLE-RADIUS=500;X-TITLE=216 E Main St:geo:-76.5120963,40.3296151
END:VEVENT
BEGIN:VEVENT
DTSTART;TZID=America/New_York:20240926T150000
DTEND;TZID=America/New_York:20240926T170000
DTSTAMP:20260423T160649
CREATED:20230706T204751Z
LAST-MODIFIED:20260330T210823Z
UID:10001179-1727362800-1727370000@annville.lclibs.org
SUMMARY:Annville Free Library Chess Club
DESCRIPTION:Join us on Thursdays from 3-5pm for Chess Club. No registration is required. All ages and skill levels are welcome!
URL:https://annville.lclibs.org/event/afl-chess-club-2/2024-09-26/
LOCATION:Annville Free Library\, 216 E Main St\, Annville\, PA\, 17003\, United States
CATEGORIES:Adults,Annville Free Library,Children,Interest Group,Seniors,Teens
ORGANIZER;CN="Ronice Nolt":MAILTO:rnolt@lclibs.org
GEO:40.3296151;-76.5120963
X-APPLE-STRUCTURED-LOCATION;VALUE=URI;X-ADDRESS=Annville Free Library 216 E Main St Annville PA 17003 United States;X-APPLE-RADIUS=500;X-TITLE=216 E Main St:geo:-76.5120963,40.3296151
END:VEVENT
BEGIN:VEVENT
DTSTART;TZID=America/New_York:20240925T180000
DTEND;TZID=America/New_York:20240925T190000
DTSTAMP:20260423T160649
CREATED:20230706T205128Z
LAST-MODIFIED:20251019T170016Z
UID:10001397-1727287200-1727290800@annville.lclibs.org
SUMMARY:AA Sober Agnostics Meeting @ Annville Free Library
DESCRIPTION:Join us on Wednesdays from 6-7pm for Sober Agnostics. This meeting is held on the first floor in the our community room. \nFor more information about Alcoholics Anonymous in Lebanon County\, please visit: www.lebanonpaaa.org  \nOr call the local 24-hour hotline: 223-322-9305
URL:https://annville.lclibs.org/event/aa-sober-agnostics-meeting-afl-2/2024-09-25/
LOCATION:Annville Free Library\, 216 E Main St\, Annville\, PA\, 17003\, United States
CATEGORIES:Adult program,Annville Free Library,Seniors
ORGANIZER;CN="Ronice Nolt":MAILTO:rnolt@lclibs.org
GEO:40.3296151;-76.5120963
X-APPLE-STRUCTURED-LOCATION;VALUE=URI;X-ADDRESS=Annville Free Library 216 E Main St Annville PA 17003 United States;X-APPLE-RADIUS=500;X-TITLE=216 E Main St:geo:-76.5120963,40.3296151
END:VEVENT
BEGIN:VEVENT
DTSTART;TZID=America/New_York:20240924T180000
DTEND;TZID=America/New_York:20240924T200000
DTSTAMP:20260423T160649
CREATED:20240207T065656Z
LAST-MODIFIED:20241229T235342Z
UID:10002761-1727200800-1727208000@annville.lclibs.org
SUMMARY:AFL Knitters
DESCRIPTION:AFL Knitting Group\nThe AFL Knitting Group meets at the library every Tuesday @ 6:00 pm\nAll knitting levels are welcome!\nBring the project you are working on.
URL:https://annville.lclibs.org/event/afl-knitters/2024-09-24/
LOCATION:Annville Free Library\, 216 E Main St\, Annville\, PA\, 17003\, United States
CATEGORIES:Annville Free Library,Interest Group
GEO:40.3296151;-76.5120963
X-APPLE-STRUCTURED-LOCATION;VALUE=URI;X-ADDRESS=Annville Free Library 216 E Main St Annville PA 17003 United States;X-APPLE-RADIUS=500;X-TITLE=216 E Main St:geo:-76.5120963,40.3296151
END:VEVENT
BEGIN:VEVENT
DTSTART;TZID=America/New_York:20240919T150000
DTEND;TZID=America/New_York:20240919T170000
DTSTAMP:20260423T160649
CREATED:20230706T204751Z
LAST-MODIFIED:20260330T210823Z
UID:10001178-1726758000-1726765200@annville.lclibs.org
SUMMARY:Annville Free Library Chess Club
DESCRIPTION:Join us on Thursdays from 3-5pm for Chess Club. No registration is required. All ages and skill levels are welcome!
URL:https://annville.lclibs.org/event/afl-chess-club-2/2024-09-19/
LOCATION:Annville Free Library\, 216 E Main St\, Annville\, PA\, 17003\, United States
CATEGORIES:Adults,Annville Free Library,Children,Interest Group,Seniors,Teens
ORGANIZER;CN="Ronice Nolt":MAILTO:rnolt@lclibs.org
GEO:40.3296151;-76.5120963
X-APPLE-STRUCTURED-LOCATION;VALUE=URI;X-ADDRESS=Annville Free Library 216 E Main St Annville PA 17003 United States;X-APPLE-RADIUS=500;X-TITLE=216 E Main St:geo:-76.5120963,40.3296151
END:VEVENT
BEGIN:VEVENT
DTSTART;TZID=America/New_York:20240918T180000
DTEND;TZID=America/New_York:20240918T190000
DTSTAMP:20260423T160649
CREATED:20230706T205128Z
LAST-MODIFIED:20251019T170016Z
UID:10001396-1726682400-1726686000@annville.lclibs.org
SUMMARY:AA Sober Agnostics Meeting @ Annville Free Library
DESCRIPTION:Join us on Wednesdays from 6-7pm for Sober Agnostics. This meeting is held on the first floor in the our community room. \nFor more information about Alcoholics Anonymous in Lebanon County\, please visit: www.lebanonpaaa.org  \nOr call the local 24-hour hotline: 223-322-9305
URL:https://annville.lclibs.org/event/aa-sober-agnostics-meeting-afl-2/2024-09-18/
LOCATION:Annville Free Library\, 216 E Main St\, Annville\, PA\, 17003\, United States
CATEGORIES:Adult program,Annville Free Library,Seniors
ORGANIZER;CN="Ronice Nolt":MAILTO:rnolt@lclibs.org
GEO:40.3296151;-76.5120963
X-APPLE-STRUCTURED-LOCATION;VALUE=URI;X-ADDRESS=Annville Free Library 216 E Main St Annville PA 17003 United States;X-APPLE-RADIUS=500;X-TITLE=216 E Main St:geo:-76.5120963,40.3296151
END:VEVENT
BEGIN:VEVENT
DTSTART;TZID=America/New_York:20240917T180000
DTEND;TZID=America/New_York:20240917T200000
DTSTAMP:20260423T160649
CREATED:20240207T065656Z
LAST-MODIFIED:20241229T235342Z
UID:10002760-1726596000-1726603200@annville.lclibs.org
SUMMARY:AFL Knitters
DESCRIPTION:AFL Knitting Group\nThe AFL Knitting Group meets at the library every Tuesday @ 6:00 pm\nAll knitting levels are welcome!\nBring the project you are working on.
URL:https://annville.lclibs.org/event/afl-knitters/2024-09-17/
LOCATION:Annville Free Library\, 216 E Main St\, Annville\, PA\, 17003\, United States
CATEGORIES:Annville Free Library,Interest Group
GEO:40.3296151;-76.5120963
X-APPLE-STRUCTURED-LOCATION;VALUE=URI;X-ADDRESS=Annville Free Library 216 E Main St Annville PA 17003 United States;X-APPLE-RADIUS=500;X-TITLE=216 E Main St:geo:-76.5120963,40.3296151
END:VEVENT
BEGIN:VEVENT
DTSTART;TZID=America/New_York:20240912T150000
DTEND;TZID=America/New_York:20240912T170000
DTSTAMP:20260423T160649
CREATED:20230706T204751Z
LAST-MODIFIED:20260330T210823Z
UID:10001177-1726153200-1726160400@annville.lclibs.org
SUMMARY:Annville Free Library Chess Club
DESCRIPTION:Join us on Thursdays from 3-5pm for Chess Club. No registration is required. All ages and skill levels are welcome!
URL:https://annville.lclibs.org/event/afl-chess-club-2/2024-09-12/
LOCATION:Annville Free Library\, 216 E Main St\, Annville\, PA\, 17003\, United States
CATEGORIES:Adults,Annville Free Library,Children,Interest Group,Seniors,Teens
ORGANIZER;CN="Ronice Nolt":MAILTO:rnolt@lclibs.org
GEO:40.3296151;-76.5120963
X-APPLE-STRUCTURED-LOCATION;VALUE=URI;X-ADDRESS=Annville Free Library 216 E Main St Annville PA 17003 United States;X-APPLE-RADIUS=500;X-TITLE=216 E Main St:geo:-76.5120963,40.3296151
END:VEVENT
BEGIN:VEVENT
DTSTART;TZID=America/New_York:20240911T180000
DTEND;TZID=America/New_York:20240911T190000
DTSTAMP:20260423T160649
CREATED:20230706T205128Z
LAST-MODIFIED:20251019T170016Z
UID:10001395-1726077600-1726081200@annville.lclibs.org
SUMMARY:AA Sober Agnostics Meeting @ Annville Free Library
DESCRIPTION:Join us on Wednesdays from 6-7pm for Sober Agnostics. This meeting is held on the first floor in the our community room. \nFor more information about Alcoholics Anonymous in Lebanon County\, please visit: www.lebanonpaaa.org  \nOr call the local 24-hour hotline: 223-322-9305
URL:https://annville.lclibs.org/event/aa-sober-agnostics-meeting-afl-2/2024-09-11/
LOCATION:Annville Free Library\, 216 E Main St\, Annville\, PA\, 17003\, United States
CATEGORIES:Adult program,Annville Free Library,Seniors
ORGANIZER;CN="Ronice Nolt":MAILTO:rnolt@lclibs.org
GEO:40.3296151;-76.5120963
X-APPLE-STRUCTURED-LOCATION;VALUE=URI;X-ADDRESS=Annville Free Library 216 E Main St Annville PA 17003 United States;X-APPLE-RADIUS=500;X-TITLE=216 E Main St:geo:-76.5120963,40.3296151
END:VEVENT
BEGIN:VEVENT
DTSTART;TZID=America/New_York:20240910T180000
DTEND;TZID=America/New_York:20240910T200000
DTSTAMP:20260423T160649
CREATED:20240207T065656Z
LAST-MODIFIED:20241229T235342Z
UID:10002759-1725991200-1725998400@annville.lclibs.org
SUMMARY:AFL Knitters
DESCRIPTION:AFL Knitting Group\nThe AFL Knitting Group meets at the library every Tuesday @ 6:00 pm\nAll knitting levels are welcome!\nBring the project you are working on.
URL:https://annville.lclibs.org/event/afl-knitters/2024-09-10/
LOCATION:Annville Free Library\, 216 E Main St\, Annville\, PA\, 17003\, United States
CATEGORIES:Annville Free Library,Interest Group
GEO:40.3296151;-76.5120963
X-APPLE-STRUCTURED-LOCATION;VALUE=URI;X-ADDRESS=Annville Free Library 216 E Main St Annville PA 17003 United States;X-APPLE-RADIUS=500;X-TITLE=216 E Main St:geo:-76.5120963,40.3296151
END:VEVENT
BEGIN:VEVENT
DTSTART;TZID=America/New_York:20240905T150000
DTEND;TZID=America/New_York:20240905T170000
DTSTAMP:20260423T160649
CREATED:20230706T204751Z
LAST-MODIFIED:20260330T210823Z
UID:10001176-1725548400-1725555600@annville.lclibs.org
SUMMARY:Annville Free Library Chess Club
DESCRIPTION:Join us on Thursdays from 3-5pm for Chess Club. No registration is required. All ages and skill levels are welcome!
URL:https://annville.lclibs.org/event/afl-chess-club-2/2024-09-05/
LOCATION:Annville Free Library\, 216 E Main St\, Annville\, PA\, 17003\, United States
CATEGORIES:Adults,Annville Free Library,Children,Interest Group,Seniors,Teens
ORGANIZER;CN="Ronice Nolt":MAILTO:rnolt@lclibs.org
GEO:40.3296151;-76.5120963
X-APPLE-STRUCTURED-LOCATION;VALUE=URI;X-ADDRESS=Annville Free Library 216 E Main St Annville PA 17003 United States;X-APPLE-RADIUS=500;X-TITLE=216 E Main St:geo:-76.5120963,40.3296151
END:VEVENT
BEGIN:VEVENT
DTSTART;TZID=America/New_York:20240904T180000
DTEND;TZID=America/New_York:20240904T190000
DTSTAMP:20260423T160649
CREATED:20230706T205128Z
LAST-MODIFIED:20251019T170016Z
UID:10000803-1725472800-1725476400@annville.lclibs.org
SUMMARY:AA Sober Agnostics Meeting @ Annville Free Library
DESCRIPTION:Join us on Wednesdays from 6-7pm for Sober Agnostics. This meeting is held on the first floor in the our community room. \nFor more information about Alcoholics Anonymous in Lebanon County\, please visit: www.lebanonpaaa.org  \nOr call the local 24-hour hotline: 223-322-9305
URL:https://annville.lclibs.org/event/aa-sober-agnostics-meeting-afl-2/2024-09-04/
LOCATION:Annville Free Library\, 216 E Main St\, Annville\, PA\, 17003\, United States
CATEGORIES:Adult program,Annville Free Library,Seniors
ORGANIZER;CN="Ronice Nolt":MAILTO:rnolt@lclibs.org
GEO:40.3296151;-76.5120963
X-APPLE-STRUCTURED-LOCATION;VALUE=URI;X-ADDRESS=Annville Free Library 216 E Main St Annville PA 17003 United States;X-APPLE-RADIUS=500;X-TITLE=216 E Main St:geo:-76.5120963,40.3296151
END:VEVENT
BEGIN:VEVENT
DTSTART;TZID=America/New_York:20240903T180000
DTEND;TZID=America/New_York:20240903T200000
DTSTAMP:20260423T160649
CREATED:20240207T065656Z
LAST-MODIFIED:20241229T235342Z
UID:10002758-1725386400-1725393600@annville.lclibs.org
SUMMARY:AFL Knitters
DESCRIPTION:AFL Knitting Group\nThe AFL Knitting Group meets at the library every Tuesday @ 6:00 pm\nAll knitting levels are welcome!\nBring the project you are working on.
URL:https://annville.lclibs.org/event/afl-knitters/2024-09-03/
LOCATION:Annville Free Library\, 216 E Main St\, Annville\, PA\, 17003\, United States
CATEGORIES:Annville Free Library,Interest Group
GEO:40.3296151;-76.5120963
X-APPLE-STRUCTURED-LOCATION;VALUE=URI;X-ADDRESS=Annville Free Library 216 E Main St Annville PA 17003 United States;X-APPLE-RADIUS=500;X-TITLE=216 E Main St:geo:-76.5120963,40.3296151
END:VEVENT
BEGIN:VEVENT
DTSTART;TZID=America/New_York:20240829T150000
DTEND;TZID=America/New_York:20240829T170000
DTSTAMP:20260423T160649
CREATED:20230706T204751Z
LAST-MODIFIED:20260330T210823Z
UID:10001175-1724943600-1724950800@annville.lclibs.org
SUMMARY:Annville Free Library Chess Club
DESCRIPTION:Join us on Thursdays from 3-5pm for Chess Club. No registration is required. All ages and skill levels are welcome!
URL:https://annville.lclibs.org/event/afl-chess-club-2/2024-08-29/
LOCATION:Annville Free Library\, 216 E Main St\, Annville\, PA\, 17003\, United States
CATEGORIES:Adults,Annville Free Library,Children,Interest Group,Seniors,Teens
ORGANIZER;CN="Ronice Nolt":MAILTO:rnolt@lclibs.org
GEO:40.3296151;-76.5120963
X-APPLE-STRUCTURED-LOCATION;VALUE=URI;X-ADDRESS=Annville Free Library 216 E Main St Annville PA 17003 United States;X-APPLE-RADIUS=500;X-TITLE=216 E Main St:geo:-76.5120963,40.3296151
END:VEVENT
BEGIN:VEVENT
DTSTART;TZID=America/New_York:20240828T180000
DTEND;TZID=America/New_York:20240828T190000
DTSTAMP:20260423T160649
CREATED:20230706T205128Z
LAST-MODIFIED:20251019T170016Z
UID:10000629-1724868000-1724871600@annville.lclibs.org
SUMMARY:AA Sober Agnostics Meeting @ Annville Free Library
DESCRIPTION:Join us on Wednesdays from 6-7pm for Sober Agnostics. This meeting is held on the first floor in the our community room. \nFor more information about Alcoholics Anonymous in Lebanon County\, please visit: www.lebanonpaaa.org  \nOr call the local 24-hour hotline: 223-322-9305
URL:https://annville.lclibs.org/event/aa-sober-agnostics-meeting-afl-2/2024-08-28/
LOCATION:Annville Free Library\, 216 E Main St\, Annville\, PA\, 17003\, United States
CATEGORIES:Adult program,Annville Free Library,Seniors
ORGANIZER;CN="Ronice Nolt":MAILTO:rnolt@lclibs.org
GEO:40.3296151;-76.5120963
X-APPLE-STRUCTURED-LOCATION;VALUE=URI;X-ADDRESS=Annville Free Library 216 E Main St Annville PA 17003 United States;X-APPLE-RADIUS=500;X-TITLE=216 E Main St:geo:-76.5120963,40.3296151
END:VEVENT
BEGIN:VEVENT
DTSTART;TZID=America/New_York:20240827T180000
DTEND;TZID=America/New_York:20240827T200000
DTSTAMP:20260423T160649
CREATED:20240207T065656Z
LAST-MODIFIED:20241229T235342Z
UID:10002757-1724781600-1724788800@annville.lclibs.org
SUMMARY:AFL Knitters
DESCRIPTION:AFL Knitting Group\nThe AFL Knitting Group meets at the library every Tuesday @ 6:00 pm\nAll knitting levels are welcome!\nBring the project you are working on.
URL:https://annville.lclibs.org/event/afl-knitters/2024-08-27/
LOCATION:Annville Free Library\, 216 E Main St\, Annville\, PA\, 17003\, United States
CATEGORIES:Annville Free Library,Interest Group
GEO:40.3296151;-76.5120963
X-APPLE-STRUCTURED-LOCATION;VALUE=URI;X-ADDRESS=Annville Free Library 216 E Main St Annville PA 17003 United States;X-APPLE-RADIUS=500;X-TITLE=216 E Main St:geo:-76.5120963,40.3296151
END:VEVENT
BEGIN:VEVENT
DTSTART;TZID=America/New_York:20240822T150000
DTEND;TZID=America/New_York:20240822T170000
DTSTAMP:20260423T160649
CREATED:20230706T204751Z
LAST-MODIFIED:20260330T210823Z
UID:10000636-1724338800-1724346000@annville.lclibs.org
SUMMARY:Annville Free Library Chess Club
DESCRIPTION:Join us on Thursdays from 3-5pm for Chess Club. No registration is required. All ages and skill levels are welcome!
URL:https://annville.lclibs.org/event/afl-chess-club-2/2024-08-22/
LOCATION:Annville Free Library\, 216 E Main St\, Annville\, PA\, 17003\, United States
CATEGORIES:Adults,Annville Free Library,Children,Interest Group,Seniors,Teens
ORGANIZER;CN="Ronice Nolt":MAILTO:rnolt@lclibs.org
GEO:40.3296151;-76.5120963
X-APPLE-STRUCTURED-LOCATION;VALUE=URI;X-ADDRESS=Annville Free Library 216 E Main St Annville PA 17003 United States;X-APPLE-RADIUS=500;X-TITLE=216 E Main St:geo:-76.5120963,40.3296151
END:VEVENT
BEGIN:VEVENT
DTSTART;TZID=America/New_York:20240821T180000
DTEND;TZID=America/New_York:20240821T190000
DTSTAMP:20260423T160649
CREATED:20230706T205128Z
LAST-MODIFIED:20251019T170016Z
UID:10000628-1724263200-1724266800@annville.lclibs.org
SUMMARY:AA Sober Agnostics Meeting @ Annville Free Library
DESCRIPTION:Join us on Wednesdays from 6-7pm for Sober Agnostics. This meeting is held on the first floor in the our community room. \nFor more information about Alcoholics Anonymous in Lebanon County\, please visit: www.lebanonpaaa.org  \nOr call the local 24-hour hotline: 223-322-9305
URL:https://annville.lclibs.org/event/aa-sober-agnostics-meeting-afl-2/2024-08-21/
LOCATION:Annville Free Library\, 216 E Main St\, Annville\, PA\, 17003\, United States
CATEGORIES:Adult program,Annville Free Library,Seniors
ORGANIZER;CN="Ronice Nolt":MAILTO:rnolt@lclibs.org
GEO:40.3296151;-76.5120963
X-APPLE-STRUCTURED-LOCATION;VALUE=URI;X-ADDRESS=Annville Free Library 216 E Main St Annville PA 17003 United States;X-APPLE-RADIUS=500;X-TITLE=216 E Main St:geo:-76.5120963,40.3296151
END:VEVENT
BEGIN:VEVENT
DTSTART;TZID=America/New_York:20240820T180000
DTEND;TZID=America/New_York:20240820T200000
DTSTAMP:20260423T160649
CREATED:20240207T065656Z
LAST-MODIFIED:20241229T235342Z
UID:10002756-1724176800-1724184000@annville.lclibs.org
SUMMARY:AFL Knitters
DESCRIPTION:AFL Knitting Group\nThe AFL Knitting Group meets at the library every Tuesday @ 6:00 pm\nAll knitting levels are welcome!\nBring the project you are working on.
URL:https://annville.lclibs.org/event/afl-knitters/2024-08-20/
LOCATION:Annville Free Library\, 216 E Main St\, Annville\, PA\, 17003\, United States
CATEGORIES:Annville Free Library,Interest Group
GEO:40.3296151;-76.5120963
X-APPLE-STRUCTURED-LOCATION;VALUE=URI;X-ADDRESS=Annville Free Library 216 E Main St Annville PA 17003 United States;X-APPLE-RADIUS=500;X-TITLE=216 E Main St:geo:-76.5120963,40.3296151
END:VEVENT
BEGIN:VEVENT
DTSTART;TZID=America/New_York:20240815T150000
DTEND;TZID=America/New_York:20240815T170000
DTSTAMP:20260423T160649
CREATED:20230706T204751Z
LAST-MODIFIED:20260330T210823Z
UID:10000635-1723734000-1723741200@annville.lclibs.org
SUMMARY:Annville Free Library Chess Club
DESCRIPTION:Join us on Thursdays from 3-5pm for Chess Club. No registration is required. All ages and skill levels are welcome!
URL:https://annville.lclibs.org/event/afl-chess-club-2/2024-08-15/
LOCATION:Annville Free Library\, 216 E Main St\, Annville\, PA\, 17003\, United States
CATEGORIES:Adults,Annville Free Library,Children,Interest Group,Seniors,Teens
ORGANIZER;CN="Ronice Nolt":MAILTO:rnolt@lclibs.org
GEO:40.3296151;-76.5120963
X-APPLE-STRUCTURED-LOCATION;VALUE=URI;X-ADDRESS=Annville Free Library 216 E Main St Annville PA 17003 United States;X-APPLE-RADIUS=500;X-TITLE=216 E Main St:geo:-76.5120963,40.3296151
END:VEVENT
END:VCALENDAR