BEGIN:VCALENDAR
VERSION:2.0
PRODID:-//Annville Free Library - ECPv6.15.17.1//NONSGML v1.0//EN
CALSCALE:GREGORIAN
METHOD:PUBLISH
X-WR-CALNAME:Annville Free Library
X-ORIGINAL-URL:https://annville.lclibs.org
X-WR-CALDESC:Events for Annville Free Library
REFRESH-INTERVAL;VALUE=DURATION:PT1H
X-Robots-Tag:noindex
X-PUBLISHED-TTL:PT1H
BEGIN:VTIMEZONE
TZID:America/New_York
BEGIN:DAYLIGHT
TZOFFSETFROM:-0500
TZOFFSETTO:-0400
TZNAME:EDT
DTSTART:20240310T070000
END:DAYLIGHT
BEGIN:STANDARD
TZOFFSETFROM:-0400
TZOFFSETTO:-0500
TZNAME:EST
DTSTART:20241103T060000
END:STANDARD
BEGIN:DAYLIGHT
TZOFFSETFROM:-0500
TZOFFSETTO:-0400
TZNAME:EDT
DTSTART:20250309T070000
END:DAYLIGHT
BEGIN:STANDARD
TZOFFSETFROM:-0400
TZOFFSETTO:-0500
TZNAME:EST
DTSTART:20251102T060000
END:STANDARD
BEGIN:DAYLIGHT
TZOFFSETFROM:-0500
TZOFFSETTO:-0400
TZNAME:EDT
DTSTART:20260308T070000
END:DAYLIGHT
BEGIN:STANDARD
TZOFFSETFROM:-0400
TZOFFSETTO:-0500
TZNAME:EST
DTSTART:20261101T060000
END:STANDARD
END:VTIMEZONE
BEGIN:VEVENT
DTSTART;TZID=America/New_York:20250326T183000
DTEND;TZID=America/New_York:20250326T200000
DTSTAMP:20260423T024344
CREATED:20241113T141436Z
LAST-MODIFIED:20251019T165256Z
UID:10004252-1743013800-1743019200@annville.lclibs.org
SUMMARY:Club Crochet
DESCRIPTION:Join us for Club Crochet at the Annville Free Library on Wednesdays from 6:30 – 8 pm. \nBring what you are working on and relax with fellow hookers. \nEveryone is welcome!
URL:https://annville.lclibs.org/event/club-crochet-2/2025-03-26/
LOCATION:Annville Free Library\, 216 E Main St\, Annville\, PA\, 17003\, United States
CATEGORIES:Annville Free Library,Interest Group
GEO:40.3296151;-76.5120963
X-APPLE-STRUCTURED-LOCATION;VALUE=URI;X-ADDRESS=Annville Free Library 216 E Main St Annville PA 17003 United States;X-APPLE-RADIUS=500;X-TITLE=216 E Main St:geo:-76.5120963,40.3296151
END:VEVENT
BEGIN:VEVENT
DTSTART;TZID=America/New_York:20250326T180000
DTEND;TZID=America/New_York:20250326T190000
DTSTAMP:20260423T024344
CREATED:20230706T205128Z
LAST-MODIFIED:20251019T170016Z
UID:10001423-1743012000-1743015600@annville.lclibs.org
SUMMARY:AA Sober Agnostics Meeting @ Annville Free Library
DESCRIPTION:Join us on Wednesdays from 6-7pm for Sober Agnostics. This meeting is held on the first floor in the our community room. \nFor more information about Alcoholics Anonymous in Lebanon County\, please visit: www.lebanonpaaa.org  \nOr call the local 24-hour hotline: 223-322-9305
URL:https://annville.lclibs.org/event/aa-sober-agnostics-meeting-afl-2/2025-03-26/
LOCATION:Annville Free Library\, 216 E Main St\, Annville\, PA\, 17003\, United States
CATEGORIES:Adult program,Annville Free Library,Seniors
ORGANIZER;CN="Ronice Nolt":MAILTO:rnolt@lclibs.org
GEO:40.3296151;-76.5120963
X-APPLE-STRUCTURED-LOCATION;VALUE=URI;X-ADDRESS=Annville Free Library 216 E Main St Annville PA 17003 United States;X-APPLE-RADIUS=500;X-TITLE=216 E Main St:geo:-76.5120963,40.3296151
END:VEVENT
BEGIN:VEVENT
DTSTART;TZID=America/New_York:20250325T180000
DTEND;TZID=America/New_York:20250325T200000
DTSTAMP:20260423T024344
CREATED:20240207T065656Z
LAST-MODIFIED:20241229T235342Z
UID:10002787-1742925600-1742932800@annville.lclibs.org
SUMMARY:AFL Knitters
DESCRIPTION:AFL Knitting Group\nThe AFL Knitting Group meets at the library every Tuesday @ 6:00 pm\nAll knitting levels are welcome!\nBring the project you are working on.
URL:https://annville.lclibs.org/event/afl-knitters/2025-03-25/
LOCATION:Annville Free Library\, 216 E Main St\, Annville\, PA\, 17003\, United States
CATEGORIES:Annville Free Library,Interest Group
GEO:40.3296151;-76.5120963
X-APPLE-STRUCTURED-LOCATION;VALUE=URI;X-ADDRESS=Annville Free Library 216 E Main St Annville PA 17003 United States;X-APPLE-RADIUS=500;X-TITLE=216 E Main St:geo:-76.5120963,40.3296151
END:VEVENT
BEGIN:VEVENT
DTSTART;TZID=America/New_York:20250320T150000
DTEND;TZID=America/New_York:20250320T170000
DTSTAMP:20260423T024344
CREATED:20230706T204751Z
LAST-MODIFIED:20260330T210823Z
UID:10001204-1742482800-1742490000@annville.lclibs.org
SUMMARY:Annville Free Library Chess Club
DESCRIPTION:Join us on Thursdays from 3-5pm for Chess Club. No registration is required. All ages and skill levels are welcome!
URL:https://annville.lclibs.org/event/afl-chess-club-2/2025-03-20/
LOCATION:Annville Free Library\, 216 E Main St\, Annville\, PA\, 17003\, United States
CATEGORIES:Adults,Annville Free Library,Children,Interest Group,Seniors,Teens
ORGANIZER;CN="Ronice Nolt":MAILTO:rnolt@lclibs.org
GEO:40.3296151;-76.5120963
X-APPLE-STRUCTURED-LOCATION;VALUE=URI;X-ADDRESS=Annville Free Library 216 E Main St Annville PA 17003 United States;X-APPLE-RADIUS=500;X-TITLE=216 E Main St:geo:-76.5120963,40.3296151
END:VEVENT
BEGIN:VEVENT
DTSTART;TZID=America/New_York:20250319T183000
DTEND;TZID=America/New_York:20250319T200000
DTSTAMP:20260423T024344
CREATED:20241113T141436Z
LAST-MODIFIED:20251019T165256Z
UID:10004251-1742409000-1742414400@annville.lclibs.org
SUMMARY:Club Crochet
DESCRIPTION:Join us for Club Crochet at the Annville Free Library on Wednesdays from 6:30 – 8 pm. \nBring what you are working on and relax with fellow hookers. \nEveryone is welcome!
URL:https://annville.lclibs.org/event/club-crochet-2/2025-03-19/
LOCATION:Annville Free Library\, 216 E Main St\, Annville\, PA\, 17003\, United States
CATEGORIES:Annville Free Library,Interest Group
GEO:40.3296151;-76.5120963
X-APPLE-STRUCTURED-LOCATION;VALUE=URI;X-ADDRESS=Annville Free Library 216 E Main St Annville PA 17003 United States;X-APPLE-RADIUS=500;X-TITLE=216 E Main St:geo:-76.5120963,40.3296151
END:VEVENT
BEGIN:VEVENT
DTSTART;TZID=America/New_York:20250319T180000
DTEND;TZID=America/New_York:20250319T190000
DTSTAMP:20260423T024344
CREATED:20230706T205128Z
LAST-MODIFIED:20251019T170016Z
UID:10001422-1742407200-1742410800@annville.lclibs.org
SUMMARY:AA Sober Agnostics Meeting @ Annville Free Library
DESCRIPTION:Join us on Wednesdays from 6-7pm for Sober Agnostics. This meeting is held on the first floor in the our community room. \nFor more information about Alcoholics Anonymous in Lebanon County\, please visit: www.lebanonpaaa.org  \nOr call the local 24-hour hotline: 223-322-9305
URL:https://annville.lclibs.org/event/aa-sober-agnostics-meeting-afl-2/2025-03-19/
LOCATION:Annville Free Library\, 216 E Main St\, Annville\, PA\, 17003\, United States
CATEGORIES:Adult program,Annville Free Library,Seniors
ORGANIZER;CN="Ronice Nolt":MAILTO:rnolt@lclibs.org
GEO:40.3296151;-76.5120963
X-APPLE-STRUCTURED-LOCATION;VALUE=URI;X-ADDRESS=Annville Free Library 216 E Main St Annville PA 17003 United States;X-APPLE-RADIUS=500;X-TITLE=216 E Main St:geo:-76.5120963,40.3296151
END:VEVENT
BEGIN:VEVENT
DTSTART;TZID=America/New_York:20250318T180000
DTEND;TZID=America/New_York:20250318T200000
DTSTAMP:20260423T024344
CREATED:20240207T065656Z
LAST-MODIFIED:20241229T235342Z
UID:10002786-1742320800-1742328000@annville.lclibs.org
SUMMARY:AFL Knitters
DESCRIPTION:AFL Knitting Group\nThe AFL Knitting Group meets at the library every Tuesday @ 6:00 pm\nAll knitting levels are welcome!\nBring the project you are working on.
URL:https://annville.lclibs.org/event/afl-knitters/2025-03-18/
LOCATION:Annville Free Library\, 216 E Main St\, Annville\, PA\, 17003\, United States
CATEGORIES:Annville Free Library,Interest Group
GEO:40.3296151;-76.5120963
X-APPLE-STRUCTURED-LOCATION;VALUE=URI;X-ADDRESS=Annville Free Library 216 E Main St Annville PA 17003 United States;X-APPLE-RADIUS=500;X-TITLE=216 E Main St:geo:-76.5120963,40.3296151
END:VEVENT
BEGIN:VEVENT
DTSTART;TZID=America/New_York:20250313T150000
DTEND;TZID=America/New_York:20250313T170000
DTSTAMP:20260423T024344
CREATED:20230706T204751Z
LAST-MODIFIED:20260330T210823Z
UID:10001203-1741878000-1741885200@annville.lclibs.org
SUMMARY:Annville Free Library Chess Club
DESCRIPTION:Join us on Thursdays from 3-5pm for Chess Club. No registration is required. All ages and skill levels are welcome!
URL:https://annville.lclibs.org/event/afl-chess-club-2/2025-03-13/
LOCATION:Annville Free Library\, 216 E Main St\, Annville\, PA\, 17003\, United States
CATEGORIES:Adults,Annville Free Library,Children,Interest Group,Seniors,Teens
ORGANIZER;CN="Ronice Nolt":MAILTO:rnolt@lclibs.org
GEO:40.3296151;-76.5120963
X-APPLE-STRUCTURED-LOCATION;VALUE=URI;X-ADDRESS=Annville Free Library 216 E Main St Annville PA 17003 United States;X-APPLE-RADIUS=500;X-TITLE=216 E Main St:geo:-76.5120963,40.3296151
END:VEVENT
BEGIN:VEVENT
DTSTART;TZID=America/New_York:20250312T183000
DTEND;TZID=America/New_York:20250312T200000
DTSTAMP:20260423T024344
CREATED:20241113T141436Z
LAST-MODIFIED:20251019T165256Z
UID:10004250-1741804200-1741809600@annville.lclibs.org
SUMMARY:Club Crochet
DESCRIPTION:Join us for Club Crochet at the Annville Free Library on Wednesdays from 6:30 – 8 pm. \nBring what you are working on and relax with fellow hookers. \nEveryone is welcome!
URL:https://annville.lclibs.org/event/club-crochet-2/2025-03-12/
LOCATION:Annville Free Library\, 216 E Main St\, Annville\, PA\, 17003\, United States
CATEGORIES:Annville Free Library,Interest Group
GEO:40.3296151;-76.5120963
X-APPLE-STRUCTURED-LOCATION;VALUE=URI;X-ADDRESS=Annville Free Library 216 E Main St Annville PA 17003 United States;X-APPLE-RADIUS=500;X-TITLE=216 E Main St:geo:-76.5120963,40.3296151
END:VEVENT
BEGIN:VEVENT
DTSTART;TZID=America/New_York:20250312T180000
DTEND;TZID=America/New_York:20250312T190000
DTSTAMP:20260423T024344
CREATED:20230706T205128Z
LAST-MODIFIED:20251019T170016Z
UID:10001421-1741802400-1741806000@annville.lclibs.org
SUMMARY:AA Sober Agnostics Meeting @ Annville Free Library
DESCRIPTION:Join us on Wednesdays from 6-7pm for Sober Agnostics. This meeting is held on the first floor in the our community room. \nFor more information about Alcoholics Anonymous in Lebanon County\, please visit: www.lebanonpaaa.org  \nOr call the local 24-hour hotline: 223-322-9305
URL:https://annville.lclibs.org/event/aa-sober-agnostics-meeting-afl-2/2025-03-12/
LOCATION:Annville Free Library\, 216 E Main St\, Annville\, PA\, 17003\, United States
CATEGORIES:Adult program,Annville Free Library,Seniors
ORGANIZER;CN="Ronice Nolt":MAILTO:rnolt@lclibs.org
GEO:40.3296151;-76.5120963
X-APPLE-STRUCTURED-LOCATION;VALUE=URI;X-ADDRESS=Annville Free Library 216 E Main St Annville PA 17003 United States;X-APPLE-RADIUS=500;X-TITLE=216 E Main St:geo:-76.5120963,40.3296151
END:VEVENT
BEGIN:VEVENT
DTSTART;TZID=America/New_York:20250311T180000
DTEND;TZID=America/New_York:20250311T200000
DTSTAMP:20260423T024344
CREATED:20240207T065656Z
LAST-MODIFIED:20241229T235342Z
UID:10002785-1741716000-1741723200@annville.lclibs.org
SUMMARY:AFL Knitters
DESCRIPTION:AFL Knitting Group\nThe AFL Knitting Group meets at the library every Tuesday @ 6:00 pm\nAll knitting levels are welcome!\nBring the project you are working on.
URL:https://annville.lclibs.org/event/afl-knitters/2025-03-11/
LOCATION:Annville Free Library\, 216 E Main St\, Annville\, PA\, 17003\, United States
CATEGORIES:Annville Free Library,Interest Group
GEO:40.3296151;-76.5120963
X-APPLE-STRUCTURED-LOCATION;VALUE=URI;X-ADDRESS=Annville Free Library 216 E Main St Annville PA 17003 United States;X-APPLE-RADIUS=500;X-TITLE=216 E Main St:geo:-76.5120963,40.3296151
END:VEVENT
BEGIN:VEVENT
DTSTART;TZID=America/New_York:20250306T150000
DTEND;TZID=America/New_York:20250306T170000
DTSTAMP:20260423T024344
CREATED:20230706T204751Z
LAST-MODIFIED:20260330T210823Z
UID:10001202-1741273200-1741280400@annville.lclibs.org
SUMMARY:Annville Free Library Chess Club
DESCRIPTION:Join us on Thursdays from 3-5pm for Chess Club. No registration is required. All ages and skill levels are welcome!
URL:https://annville.lclibs.org/event/afl-chess-club-2/2025-03-06/
LOCATION:Annville Free Library\, 216 E Main St\, Annville\, PA\, 17003\, United States
CATEGORIES:Adults,Annville Free Library,Children,Interest Group,Seniors,Teens
ORGANIZER;CN="Ronice Nolt":MAILTO:rnolt@lclibs.org
GEO:40.3296151;-76.5120963
X-APPLE-STRUCTURED-LOCATION;VALUE=URI;X-ADDRESS=Annville Free Library 216 E Main St Annville PA 17003 United States;X-APPLE-RADIUS=500;X-TITLE=216 E Main St:geo:-76.5120963,40.3296151
END:VEVENT
BEGIN:VEVENT
DTSTART;TZID=America/New_York:20250305T183000
DTEND;TZID=America/New_York:20250305T200000
DTSTAMP:20260423T024344
CREATED:20241113T141436Z
LAST-MODIFIED:20251019T165256Z
UID:10004249-1741199400-1741204800@annville.lclibs.org
SUMMARY:Club Crochet
DESCRIPTION:Join us for Club Crochet at the Annville Free Library on Wednesdays from 6:30 – 8 pm. \nBring what you are working on and relax with fellow hookers. \nEveryone is welcome!
URL:https://annville.lclibs.org/event/club-crochet-2/2025-03-05/
LOCATION:Annville Free Library\, 216 E Main St\, Annville\, PA\, 17003\, United States
CATEGORIES:Annville Free Library,Interest Group
GEO:40.3296151;-76.5120963
X-APPLE-STRUCTURED-LOCATION;VALUE=URI;X-ADDRESS=Annville Free Library 216 E Main St Annville PA 17003 United States;X-APPLE-RADIUS=500;X-TITLE=216 E Main St:geo:-76.5120963,40.3296151
END:VEVENT
BEGIN:VEVENT
DTSTART;TZID=America/New_York:20250305T180000
DTEND;TZID=America/New_York:20250305T190000
DTSTAMP:20260423T024344
CREATED:20230706T205128Z
LAST-MODIFIED:20251019T170016Z
UID:10001420-1741197600-1741201200@annville.lclibs.org
SUMMARY:AA Sober Agnostics Meeting @ Annville Free Library
DESCRIPTION:Join us on Wednesdays from 6-7pm for Sober Agnostics. This meeting is held on the first floor in the our community room. \nFor more information about Alcoholics Anonymous in Lebanon County\, please visit: www.lebanonpaaa.org  \nOr call the local 24-hour hotline: 223-322-9305
URL:https://annville.lclibs.org/event/aa-sober-agnostics-meeting-afl-2/2025-03-05/
LOCATION:Annville Free Library\, 216 E Main St\, Annville\, PA\, 17003\, United States
CATEGORIES:Adult program,Annville Free Library,Seniors
ORGANIZER;CN="Ronice Nolt":MAILTO:rnolt@lclibs.org
GEO:40.3296151;-76.5120963
X-APPLE-STRUCTURED-LOCATION;VALUE=URI;X-ADDRESS=Annville Free Library 216 E Main St Annville PA 17003 United States;X-APPLE-RADIUS=500;X-TITLE=216 E Main St:geo:-76.5120963,40.3296151
END:VEVENT
BEGIN:VEVENT
DTSTART;TZID=America/New_York:20250304T180000
DTEND;TZID=America/New_York:20250304T200000
DTSTAMP:20260423T024344
CREATED:20240207T065656Z
LAST-MODIFIED:20241229T235342Z
UID:10002784-1741111200-1741118400@annville.lclibs.org
SUMMARY:AFL Knitters
DESCRIPTION:AFL Knitting Group\nThe AFL Knitting Group meets at the library every Tuesday @ 6:00 pm\nAll knitting levels are welcome!\nBring the project you are working on.
URL:https://annville.lclibs.org/event/afl-knitters/2025-03-04/
LOCATION:Annville Free Library\, 216 E Main St\, Annville\, PA\, 17003\, United States
CATEGORIES:Annville Free Library,Interest Group
GEO:40.3296151;-76.5120963
X-APPLE-STRUCTURED-LOCATION;VALUE=URI;X-ADDRESS=Annville Free Library 216 E Main St Annville PA 17003 United States;X-APPLE-RADIUS=500;X-TITLE=216 E Main St:geo:-76.5120963,40.3296151
END:VEVENT
BEGIN:VEVENT
DTSTART;TZID=America/New_York:20250227T150000
DTEND;TZID=America/New_York:20250227T170000
DTSTAMP:20260423T024344
CREATED:20230706T204751Z
LAST-MODIFIED:20260330T210823Z
UID:10001201-1740668400-1740675600@annville.lclibs.org
SUMMARY:Annville Free Library Chess Club
DESCRIPTION:Join us on Thursdays from 3-5pm for Chess Club. No registration is required. All ages and skill levels are welcome!
URL:https://annville.lclibs.org/event/afl-chess-club-2/2025-02-27/
LOCATION:Annville Free Library\, 216 E Main St\, Annville\, PA\, 17003\, United States
CATEGORIES:Adults,Annville Free Library,Children,Interest Group,Seniors,Teens
ORGANIZER;CN="Ronice Nolt":MAILTO:rnolt@lclibs.org
GEO:40.3296151;-76.5120963
X-APPLE-STRUCTURED-LOCATION;VALUE=URI;X-ADDRESS=Annville Free Library 216 E Main St Annville PA 17003 United States;X-APPLE-RADIUS=500;X-TITLE=216 E Main St:geo:-76.5120963,40.3296151
END:VEVENT
BEGIN:VEVENT
DTSTART;TZID=America/New_York:20250226T183000
DTEND;TZID=America/New_York:20250226T200000
DTSTAMP:20260423T024344
CREATED:20241113T141436Z
LAST-MODIFIED:20251019T165256Z
UID:10004248-1740594600-1740600000@annville.lclibs.org
SUMMARY:Club Crochet
DESCRIPTION:Join us for Club Crochet at the Annville Free Library on Wednesdays from 6:30 – 8 pm. \nBring what you are working on and relax with fellow hookers. \nEveryone is welcome!
URL:https://annville.lclibs.org/event/club-crochet-2/2025-02-26/
LOCATION:Annville Free Library\, 216 E Main St\, Annville\, PA\, 17003\, United States
CATEGORIES:Annville Free Library,Interest Group
GEO:40.3296151;-76.5120963
X-APPLE-STRUCTURED-LOCATION;VALUE=URI;X-ADDRESS=Annville Free Library 216 E Main St Annville PA 17003 United States;X-APPLE-RADIUS=500;X-TITLE=216 E Main St:geo:-76.5120963,40.3296151
END:VEVENT
BEGIN:VEVENT
DTSTART;TZID=America/New_York:20250226T180000
DTEND;TZID=America/New_York:20250226T190000
DTSTAMP:20260423T024344
CREATED:20230706T205128Z
LAST-MODIFIED:20251019T170016Z
UID:10001419-1740592800-1740596400@annville.lclibs.org
SUMMARY:AA Sober Agnostics Meeting @ Annville Free Library
DESCRIPTION:Join us on Wednesdays from 6-7pm for Sober Agnostics. This meeting is held on the first floor in the our community room. \nFor more information about Alcoholics Anonymous in Lebanon County\, please visit: www.lebanonpaaa.org  \nOr call the local 24-hour hotline: 223-322-9305
URL:https://annville.lclibs.org/event/aa-sober-agnostics-meeting-afl-2/2025-02-26/
LOCATION:Annville Free Library\, 216 E Main St\, Annville\, PA\, 17003\, United States
CATEGORIES:Adult program,Annville Free Library,Seniors
ORGANIZER;CN="Ronice Nolt":MAILTO:rnolt@lclibs.org
GEO:40.3296151;-76.5120963
X-APPLE-STRUCTURED-LOCATION;VALUE=URI;X-ADDRESS=Annville Free Library 216 E Main St Annville PA 17003 United States;X-APPLE-RADIUS=500;X-TITLE=216 E Main St:geo:-76.5120963,40.3296151
END:VEVENT
BEGIN:VEVENT
DTSTART;TZID=America/New_York:20250225T180000
DTEND;TZID=America/New_York:20250225T200000
DTSTAMP:20260423T024344
CREATED:20240207T065656Z
LAST-MODIFIED:20241229T235342Z
UID:10002783-1740506400-1740513600@annville.lclibs.org
SUMMARY:AFL Knitters
DESCRIPTION:AFL Knitting Group\nThe AFL Knitting Group meets at the library every Tuesday @ 6:00 pm\nAll knitting levels are welcome!\nBring the project you are working on.
URL:https://annville.lclibs.org/event/afl-knitters/2025-02-25/
LOCATION:Annville Free Library\, 216 E Main St\, Annville\, PA\, 17003\, United States
CATEGORIES:Annville Free Library,Interest Group
GEO:40.3296151;-76.5120963
X-APPLE-STRUCTURED-LOCATION;VALUE=URI;X-ADDRESS=Annville Free Library 216 E Main St Annville PA 17003 United States;X-APPLE-RADIUS=500;X-TITLE=216 E Main St:geo:-76.5120963,40.3296151
END:VEVENT
BEGIN:VEVENT
DTSTART;TZID=America/New_York:20250220T150000
DTEND;TZID=America/New_York:20250220T170000
DTSTAMP:20260423T024344
CREATED:20230706T204751Z
LAST-MODIFIED:20260330T210823Z
UID:10001200-1740063600-1740070800@annville.lclibs.org
SUMMARY:Annville Free Library Chess Club
DESCRIPTION:Join us on Thursdays from 3-5pm for Chess Club. No registration is required. All ages and skill levels are welcome!
URL:https://annville.lclibs.org/event/afl-chess-club-2/2025-02-20/
LOCATION:Annville Free Library\, 216 E Main St\, Annville\, PA\, 17003\, United States
CATEGORIES:Adults,Annville Free Library,Children,Interest Group,Seniors,Teens
ORGANIZER;CN="Ronice Nolt":MAILTO:rnolt@lclibs.org
GEO:40.3296151;-76.5120963
X-APPLE-STRUCTURED-LOCATION;VALUE=URI;X-ADDRESS=Annville Free Library 216 E Main St Annville PA 17003 United States;X-APPLE-RADIUS=500;X-TITLE=216 E Main St:geo:-76.5120963,40.3296151
END:VEVENT
BEGIN:VEVENT
DTSTART;TZID=America/New_York:20250219T183000
DTEND;TZID=America/New_York:20250219T200000
DTSTAMP:20260423T024344
CREATED:20241113T141436Z
LAST-MODIFIED:20251019T165256Z
UID:10004247-1739989800-1739995200@annville.lclibs.org
SUMMARY:Club Crochet
DESCRIPTION:Join us for Club Crochet at the Annville Free Library on Wednesdays from 6:30 – 8 pm. \nBring what you are working on and relax with fellow hookers. \nEveryone is welcome!
URL:https://annville.lclibs.org/event/club-crochet-2/2025-02-19/
LOCATION:Annville Free Library\, 216 E Main St\, Annville\, PA\, 17003\, United States
CATEGORIES:Annville Free Library,Interest Group
GEO:40.3296151;-76.5120963
X-APPLE-STRUCTURED-LOCATION;VALUE=URI;X-ADDRESS=Annville Free Library 216 E Main St Annville PA 17003 United States;X-APPLE-RADIUS=500;X-TITLE=216 E Main St:geo:-76.5120963,40.3296151
END:VEVENT
BEGIN:VEVENT
DTSTART;TZID=America/New_York:20250219T180000
DTEND;TZID=America/New_York:20250219T190000
DTSTAMP:20260423T024344
CREATED:20230706T205128Z
LAST-MODIFIED:20251019T170016Z
UID:10001418-1739988000-1739991600@annville.lclibs.org
SUMMARY:AA Sober Agnostics Meeting @ Annville Free Library
DESCRIPTION:Join us on Wednesdays from 6-7pm for Sober Agnostics. This meeting is held on the first floor in the our community room. \nFor more information about Alcoholics Anonymous in Lebanon County\, please visit: www.lebanonpaaa.org  \nOr call the local 24-hour hotline: 223-322-9305
URL:https://annville.lclibs.org/event/aa-sober-agnostics-meeting-afl-2/2025-02-19/
LOCATION:Annville Free Library\, 216 E Main St\, Annville\, PA\, 17003\, United States
CATEGORIES:Adult program,Annville Free Library,Seniors
ORGANIZER;CN="Ronice Nolt":MAILTO:rnolt@lclibs.org
GEO:40.3296151;-76.5120963
X-APPLE-STRUCTURED-LOCATION;VALUE=URI;X-ADDRESS=Annville Free Library 216 E Main St Annville PA 17003 United States;X-APPLE-RADIUS=500;X-TITLE=216 E Main St:geo:-76.5120963,40.3296151
END:VEVENT
BEGIN:VEVENT
DTSTART;TZID=America/New_York:20250218T180000
DTEND;TZID=America/New_York:20250218T200000
DTSTAMP:20260423T024344
CREATED:20240207T065656Z
LAST-MODIFIED:20241229T235342Z
UID:10002782-1739901600-1739908800@annville.lclibs.org
SUMMARY:AFL Knitters
DESCRIPTION:AFL Knitting Group\nThe AFL Knitting Group meets at the library every Tuesday @ 6:00 pm\nAll knitting levels are welcome!\nBring the project you are working on.
URL:https://annville.lclibs.org/event/afl-knitters/2025-02-18/
LOCATION:Annville Free Library\, 216 E Main St\, Annville\, PA\, 17003\, United States
CATEGORIES:Annville Free Library,Interest Group
GEO:40.3296151;-76.5120963
X-APPLE-STRUCTURED-LOCATION;VALUE=URI;X-ADDRESS=Annville Free Library 216 E Main St Annville PA 17003 United States;X-APPLE-RADIUS=500;X-TITLE=216 E Main St:geo:-76.5120963,40.3296151
END:VEVENT
BEGIN:VEVENT
DTSTART;TZID=America/New_York:20250213T150000
DTEND;TZID=America/New_York:20250213T170000
DTSTAMP:20260423T024344
CREATED:20230706T204751Z
LAST-MODIFIED:20260330T210823Z
UID:10001199-1739458800-1739466000@annville.lclibs.org
SUMMARY:Annville Free Library Chess Club
DESCRIPTION:Join us on Thursdays from 3-5pm for Chess Club. No registration is required. All ages and skill levels are welcome!
URL:https://annville.lclibs.org/event/afl-chess-club-2/2025-02-13/
LOCATION:Annville Free Library\, 216 E Main St\, Annville\, PA\, 17003\, United States
CATEGORIES:Adults,Annville Free Library,Children,Interest Group,Seniors,Teens
ORGANIZER;CN="Ronice Nolt":MAILTO:rnolt@lclibs.org
GEO:40.3296151;-76.5120963
X-APPLE-STRUCTURED-LOCATION;VALUE=URI;X-ADDRESS=Annville Free Library 216 E Main St Annville PA 17003 United States;X-APPLE-RADIUS=500;X-TITLE=216 E Main St:geo:-76.5120963,40.3296151
END:VEVENT
BEGIN:VEVENT
DTSTART;TZID=America/New_York:20250212T183000
DTEND;TZID=America/New_York:20250212T200000
DTSTAMP:20260423T024344
CREATED:20241113T141436Z
LAST-MODIFIED:20251019T165256Z
UID:10004246-1739385000-1739390400@annville.lclibs.org
SUMMARY:Club Crochet
DESCRIPTION:Join us for Club Crochet at the Annville Free Library on Wednesdays from 6:30 – 8 pm. \nBring what you are working on and relax with fellow hookers. \nEveryone is welcome!
URL:https://annville.lclibs.org/event/club-crochet-2/2025-02-12/
LOCATION:Annville Free Library\, 216 E Main St\, Annville\, PA\, 17003\, United States
CATEGORIES:Annville Free Library,Interest Group
GEO:40.3296151;-76.5120963
X-APPLE-STRUCTURED-LOCATION;VALUE=URI;X-ADDRESS=Annville Free Library 216 E Main St Annville PA 17003 United States;X-APPLE-RADIUS=500;X-TITLE=216 E Main St:geo:-76.5120963,40.3296151
END:VEVENT
BEGIN:VEVENT
DTSTART;TZID=America/New_York:20250212T180000
DTEND;TZID=America/New_York:20250212T190000
DTSTAMP:20260423T024344
CREATED:20230706T205128Z
LAST-MODIFIED:20251019T170016Z
UID:10001417-1739383200-1739386800@annville.lclibs.org
SUMMARY:AA Sober Agnostics Meeting @ Annville Free Library
DESCRIPTION:Join us on Wednesdays from 6-7pm for Sober Agnostics. This meeting is held on the first floor in the our community room. \nFor more information about Alcoholics Anonymous in Lebanon County\, please visit: www.lebanonpaaa.org  \nOr call the local 24-hour hotline: 223-322-9305
URL:https://annville.lclibs.org/event/aa-sober-agnostics-meeting-afl-2/2025-02-12/
LOCATION:Annville Free Library\, 216 E Main St\, Annville\, PA\, 17003\, United States
CATEGORIES:Adult program,Annville Free Library,Seniors
ORGANIZER;CN="Ronice Nolt":MAILTO:rnolt@lclibs.org
GEO:40.3296151;-76.5120963
X-APPLE-STRUCTURED-LOCATION;VALUE=URI;X-ADDRESS=Annville Free Library 216 E Main St Annville PA 17003 United States;X-APPLE-RADIUS=500;X-TITLE=216 E Main St:geo:-76.5120963,40.3296151
END:VEVENT
BEGIN:VEVENT
DTSTART;TZID=America/New_York:20250211T180000
DTEND;TZID=America/New_York:20250211T200000
DTSTAMP:20260423T024344
CREATED:20240207T065656Z
LAST-MODIFIED:20241229T235342Z
UID:10002781-1739296800-1739304000@annville.lclibs.org
SUMMARY:AFL Knitters
DESCRIPTION:AFL Knitting Group\nThe AFL Knitting Group meets at the library every Tuesday @ 6:00 pm\nAll knitting levels are welcome!\nBring the project you are working on.
URL:https://annville.lclibs.org/event/afl-knitters/2025-02-11/
LOCATION:Annville Free Library\, 216 E Main St\, Annville\, PA\, 17003\, United States
CATEGORIES:Annville Free Library,Interest Group
GEO:40.3296151;-76.5120963
X-APPLE-STRUCTURED-LOCATION;VALUE=URI;X-ADDRESS=Annville Free Library 216 E Main St Annville PA 17003 United States;X-APPLE-RADIUS=500;X-TITLE=216 E Main St:geo:-76.5120963,40.3296151
END:VEVENT
BEGIN:VEVENT
DTSTART;TZID=America/New_York:20250206T150000
DTEND;TZID=America/New_York:20250206T170000
DTSTAMP:20260423T024344
CREATED:20230706T204751Z
LAST-MODIFIED:20260330T210823Z
UID:10001198-1738854000-1738861200@annville.lclibs.org
SUMMARY:Annville Free Library Chess Club
DESCRIPTION:Join us on Thursdays from 3-5pm for Chess Club. No registration is required. All ages and skill levels are welcome!
URL:https://annville.lclibs.org/event/afl-chess-club-2/2025-02-06/
LOCATION:Annville Free Library\, 216 E Main St\, Annville\, PA\, 17003\, United States
CATEGORIES:Adults,Annville Free Library,Children,Interest Group,Seniors,Teens
ORGANIZER;CN="Ronice Nolt":MAILTO:rnolt@lclibs.org
GEO:40.3296151;-76.5120963
X-APPLE-STRUCTURED-LOCATION;VALUE=URI;X-ADDRESS=Annville Free Library 216 E Main St Annville PA 17003 United States;X-APPLE-RADIUS=500;X-TITLE=216 E Main St:geo:-76.5120963,40.3296151
END:VEVENT
BEGIN:VEVENT
DTSTART;TZID=America/New_York:20250205T183000
DTEND;TZID=America/New_York:20250205T200000
DTSTAMP:20260423T024344
CREATED:20241113T141436Z
LAST-MODIFIED:20251019T165256Z
UID:10004245-1738780200-1738785600@annville.lclibs.org
SUMMARY:Club Crochet
DESCRIPTION:Join us for Club Crochet at the Annville Free Library on Wednesdays from 6:30 – 8 pm. \nBring what you are working on and relax with fellow hookers. \nEveryone is welcome!
URL:https://annville.lclibs.org/event/club-crochet-2/2025-02-05/
LOCATION:Annville Free Library\, 216 E Main St\, Annville\, PA\, 17003\, United States
CATEGORIES:Annville Free Library,Interest Group
GEO:40.3296151;-76.5120963
X-APPLE-STRUCTURED-LOCATION;VALUE=URI;X-ADDRESS=Annville Free Library 216 E Main St Annville PA 17003 United States;X-APPLE-RADIUS=500;X-TITLE=216 E Main St:geo:-76.5120963,40.3296151
END:VEVENT
BEGIN:VEVENT
DTSTART;TZID=America/New_York:20250205T180000
DTEND;TZID=America/New_York:20250205T190000
DTSTAMP:20260423T024344
CREATED:20230706T205128Z
LAST-MODIFIED:20251019T170016Z
UID:10001416-1738778400-1738782000@annville.lclibs.org
SUMMARY:AA Sober Agnostics Meeting @ Annville Free Library
DESCRIPTION:Join us on Wednesdays from 6-7pm for Sober Agnostics. This meeting is held on the first floor in the our community room. \nFor more information about Alcoholics Anonymous in Lebanon County\, please visit: www.lebanonpaaa.org  \nOr call the local 24-hour hotline: 223-322-9305
URL:https://annville.lclibs.org/event/aa-sober-agnostics-meeting-afl-2/2025-02-05/
LOCATION:Annville Free Library\, 216 E Main St\, Annville\, PA\, 17003\, United States
CATEGORIES:Adult program,Annville Free Library,Seniors
ORGANIZER;CN="Ronice Nolt":MAILTO:rnolt@lclibs.org
GEO:40.3296151;-76.5120963
X-APPLE-STRUCTURED-LOCATION;VALUE=URI;X-ADDRESS=Annville Free Library 216 E Main St Annville PA 17003 United States;X-APPLE-RADIUS=500;X-TITLE=216 E Main St:geo:-76.5120963,40.3296151
END:VEVENT
END:VCALENDAR