BEGIN:VCALENDAR
VERSION:2.0
PRODID:-//Annville Free Library - ECPv6.15.17.1//NONSGML v1.0//EN
CALSCALE:GREGORIAN
METHOD:PUBLISH
X-WR-CALNAME:Annville Free Library
X-ORIGINAL-URL:https://annville.lclibs.org
X-WR-CALDESC:Events for Annville Free Library
REFRESH-INTERVAL;VALUE=DURATION:PT1H
X-Robots-Tag:noindex
X-PUBLISHED-TTL:PT1H
BEGIN:VTIMEZONE
TZID:America/New_York
BEGIN:DAYLIGHT
TZOFFSETFROM:-0500
TZOFFSETTO:-0400
TZNAME:EDT
DTSTART:20240310T070000
END:DAYLIGHT
BEGIN:STANDARD
TZOFFSETFROM:-0400
TZOFFSETTO:-0500
TZNAME:EST
DTSTART:20241103T060000
END:STANDARD
BEGIN:DAYLIGHT
TZOFFSETFROM:-0500
TZOFFSETTO:-0400
TZNAME:EDT
DTSTART:20250309T070000
END:DAYLIGHT
BEGIN:STANDARD
TZOFFSETFROM:-0400
TZOFFSETTO:-0500
TZNAME:EST
DTSTART:20251102T060000
END:STANDARD
BEGIN:DAYLIGHT
TZOFFSETFROM:-0500
TZOFFSETTO:-0400
TZNAME:EDT
DTSTART:20260308T070000
END:DAYLIGHT
BEGIN:STANDARD
TZOFFSETFROM:-0400
TZOFFSETTO:-0500
TZNAME:EST
DTSTART:20261101T060000
END:STANDARD
END:VTIMEZONE
BEGIN:VEVENT
DTSTART;TZID=America/New_York:20250729T180000
DTEND;TZID=America/New_York:20250729T200000
DTSTAMP:20260422T152325
CREATED:20240207T065656Z
LAST-MODIFIED:20241229T235342Z
UID:10002805-1753812000-1753819200@annville.lclibs.org
SUMMARY:AFL Knitters
DESCRIPTION:AFL Knitting Group\nThe AFL Knitting Group meets at the library every Tuesday @ 6:00 pm\nAll knitting levels are welcome!\nBring the project you are working on.
URL:https://annville.lclibs.org/event/afl-knitters/2025-07-29/
LOCATION:Annville Free Library\, 216 E Main St\, Annville\, PA\, 17003\, United States
CATEGORIES:Annville Free Library,Interest Group
GEO:40.3296151;-76.5120963
X-APPLE-STRUCTURED-LOCATION;VALUE=URI;X-ADDRESS=Annville Free Library 216 E Main St Annville PA 17003 United States;X-APPLE-RADIUS=500;X-TITLE=216 E Main St:geo:-76.5120963,40.3296151
END:VEVENT
BEGIN:VEVENT
DTSTART;TZID=America/New_York:20250724T150000
DTEND;TZID=America/New_York:20250724T170000
DTSTAMP:20260422T152325
CREATED:20230706T204751Z
LAST-MODIFIED:20260330T210823Z
UID:10001222-1753369200-1753376400@annville.lclibs.org
SUMMARY:Annville Free Library Chess Club
DESCRIPTION:Join us on Thursdays from 3-5pm for Chess Club. No registration is required. All ages and skill levels are welcome!
URL:https://annville.lclibs.org/event/afl-chess-club-2/2025-07-24/
LOCATION:Annville Free Library\, 216 E Main St\, Annville\, PA\, 17003\, United States
CATEGORIES:Adults,Annville Free Library,Children,Interest Group,Seniors,Teens
ORGANIZER;CN="Ronice Nolt":MAILTO:rnolt@lclibs.org
GEO:40.3296151;-76.5120963
X-APPLE-STRUCTURED-LOCATION;VALUE=URI;X-ADDRESS=Annville Free Library 216 E Main St Annville PA 17003 United States;X-APPLE-RADIUS=500;X-TITLE=216 E Main St:geo:-76.5120963,40.3296151
END:VEVENT
BEGIN:VEVENT
DTSTART;TZID=America/New_York:20250723T183000
DTEND;TZID=America/New_York:20250723T200000
DTSTAMP:20260422T152325
CREATED:20241113T141436Z
LAST-MODIFIED:20251019T165256Z
UID:10004269-1753295400-1753300800@annville.lclibs.org
SUMMARY:Club Crochet
DESCRIPTION:Join us for Club Crochet at the Annville Free Library on Wednesdays from 6:30 – 8 pm. \nBring what you are working on and relax with fellow hookers. \nEveryone is welcome!
URL:https://annville.lclibs.org/event/club-crochet-2/2025-07-23/
LOCATION:Annville Free Library\, 216 E Main St\, Annville\, PA\, 17003\, United States
CATEGORIES:Annville Free Library,Interest Group
GEO:40.3296151;-76.5120963
X-APPLE-STRUCTURED-LOCATION;VALUE=URI;X-ADDRESS=Annville Free Library 216 E Main St Annville PA 17003 United States;X-APPLE-RADIUS=500;X-TITLE=216 E Main St:geo:-76.5120963,40.3296151
END:VEVENT
BEGIN:VEVENT
DTSTART;TZID=America/New_York:20250723T180000
DTEND;TZID=America/New_York:20250723T190000
DTSTAMP:20260422T152325
CREATED:20230706T205128Z
LAST-MODIFIED:20251019T170016Z
UID:10001440-1753293600-1753297200@annville.lclibs.org
SUMMARY:AA Sober Agnostics Meeting @ Annville Free Library
DESCRIPTION:Join us on Wednesdays from 6-7pm for Sober Agnostics. This meeting is held on the first floor in the our community room. \nFor more information about Alcoholics Anonymous in Lebanon County\, please visit: www.lebanonpaaa.org  \nOr call the local 24-hour hotline: 223-322-9305
URL:https://annville.lclibs.org/event/aa-sober-agnostics-meeting-afl-2/2025-07-23/
LOCATION:Annville Free Library\, 216 E Main St\, Annville\, PA\, 17003\, United States
CATEGORIES:Adult program,Annville Free Library,Seniors
ORGANIZER;CN="Ronice Nolt":MAILTO:rnolt@lclibs.org
GEO:40.3296151;-76.5120963
X-APPLE-STRUCTURED-LOCATION;VALUE=URI;X-ADDRESS=Annville Free Library 216 E Main St Annville PA 17003 United States;X-APPLE-RADIUS=500;X-TITLE=216 E Main St:geo:-76.5120963,40.3296151
END:VEVENT
BEGIN:VEVENT
DTSTART;TZID=America/New_York:20250722T180000
DTEND;TZID=America/New_York:20250722T200000
DTSTAMP:20260422T152325
CREATED:20240207T065656Z
LAST-MODIFIED:20241229T235342Z
UID:10002804-1753207200-1753214400@annville.lclibs.org
SUMMARY:AFL Knitters
DESCRIPTION:AFL Knitting Group\nThe AFL Knitting Group meets at the library every Tuesday @ 6:00 pm\nAll knitting levels are welcome!\nBring the project you are working on.
URL:https://annville.lclibs.org/event/afl-knitters/2025-07-22/
LOCATION:Annville Free Library\, 216 E Main St\, Annville\, PA\, 17003\, United States
CATEGORIES:Annville Free Library,Interest Group
GEO:40.3296151;-76.5120963
X-APPLE-STRUCTURED-LOCATION;VALUE=URI;X-ADDRESS=Annville Free Library 216 E Main St Annville PA 17003 United States;X-APPLE-RADIUS=500;X-TITLE=216 E Main St:geo:-76.5120963,40.3296151
END:VEVENT
BEGIN:VEVENT
DTSTART;TZID=America/New_York:20250717T150000
DTEND;TZID=America/New_York:20250717T170000
DTSTAMP:20260422T152325
CREATED:20230706T204751Z
LAST-MODIFIED:20260330T210823Z
UID:10001221-1752764400-1752771600@annville.lclibs.org
SUMMARY:Annville Free Library Chess Club
DESCRIPTION:Join us on Thursdays from 3-5pm for Chess Club. No registration is required. All ages and skill levels are welcome!
URL:https://annville.lclibs.org/event/afl-chess-club-2/2025-07-17/
LOCATION:Annville Free Library\, 216 E Main St\, Annville\, PA\, 17003\, United States
CATEGORIES:Adults,Annville Free Library,Children,Interest Group,Seniors,Teens
ORGANIZER;CN="Ronice Nolt":MAILTO:rnolt@lclibs.org
GEO:40.3296151;-76.5120963
X-APPLE-STRUCTURED-LOCATION;VALUE=URI;X-ADDRESS=Annville Free Library 216 E Main St Annville PA 17003 United States;X-APPLE-RADIUS=500;X-TITLE=216 E Main St:geo:-76.5120963,40.3296151
END:VEVENT
BEGIN:VEVENT
DTSTART;TZID=America/New_York:20250716T183000
DTEND;TZID=America/New_York:20250716T200000
DTSTAMP:20260422T152325
CREATED:20241113T141436Z
LAST-MODIFIED:20251019T165256Z
UID:10004268-1752690600-1752696000@annville.lclibs.org
SUMMARY:Club Crochet
DESCRIPTION:Join us for Club Crochet at the Annville Free Library on Wednesdays from 6:30 – 8 pm. \nBring what you are working on and relax with fellow hookers. \nEveryone is welcome!
URL:https://annville.lclibs.org/event/club-crochet-2/2025-07-16/
LOCATION:Annville Free Library\, 216 E Main St\, Annville\, PA\, 17003\, United States
CATEGORIES:Annville Free Library,Interest Group
GEO:40.3296151;-76.5120963
X-APPLE-STRUCTURED-LOCATION;VALUE=URI;X-ADDRESS=Annville Free Library 216 E Main St Annville PA 17003 United States;X-APPLE-RADIUS=500;X-TITLE=216 E Main St:geo:-76.5120963,40.3296151
END:VEVENT
BEGIN:VEVENT
DTSTART;TZID=America/New_York:20250716T180000
DTEND;TZID=America/New_York:20250716T190000
DTSTAMP:20260422T152325
CREATED:20230706T205128Z
LAST-MODIFIED:20251019T170016Z
UID:10001439-1752688800-1752692400@annville.lclibs.org
SUMMARY:AA Sober Agnostics Meeting @ Annville Free Library
DESCRIPTION:Join us on Wednesdays from 6-7pm for Sober Agnostics. This meeting is held on the first floor in the our community room. \nFor more information about Alcoholics Anonymous in Lebanon County\, please visit: www.lebanonpaaa.org  \nOr call the local 24-hour hotline: 223-322-9305
URL:https://annville.lclibs.org/event/aa-sober-agnostics-meeting-afl-2/2025-07-16/
LOCATION:Annville Free Library\, 216 E Main St\, Annville\, PA\, 17003\, United States
CATEGORIES:Adult program,Annville Free Library,Seniors
ORGANIZER;CN="Ronice Nolt":MAILTO:rnolt@lclibs.org
GEO:40.3296151;-76.5120963
X-APPLE-STRUCTURED-LOCATION;VALUE=URI;X-ADDRESS=Annville Free Library 216 E Main St Annville PA 17003 United States;X-APPLE-RADIUS=500;X-TITLE=216 E Main St:geo:-76.5120963,40.3296151
END:VEVENT
BEGIN:VEVENT
DTSTART;TZID=America/New_York:20250715T180000
DTEND;TZID=America/New_York:20250715T200000
DTSTAMP:20260422T152325
CREATED:20240207T065656Z
LAST-MODIFIED:20241229T235342Z
UID:10002803-1752602400-1752609600@annville.lclibs.org
SUMMARY:AFL Knitters
DESCRIPTION:AFL Knitting Group\nThe AFL Knitting Group meets at the library every Tuesday @ 6:00 pm\nAll knitting levels are welcome!\nBring the project you are working on.
URL:https://annville.lclibs.org/event/afl-knitters/2025-07-15/
LOCATION:Annville Free Library\, 216 E Main St\, Annville\, PA\, 17003\, United States
CATEGORIES:Annville Free Library,Interest Group
GEO:40.3296151;-76.5120963
X-APPLE-STRUCTURED-LOCATION;VALUE=URI;X-ADDRESS=Annville Free Library 216 E Main St Annville PA 17003 United States;X-APPLE-RADIUS=500;X-TITLE=216 E Main St:geo:-76.5120963,40.3296151
END:VEVENT
BEGIN:VEVENT
DTSTART;TZID=America/New_York:20250710T150000
DTEND;TZID=America/New_York:20250710T170000
DTSTAMP:20260422T152325
CREATED:20230706T204751Z
LAST-MODIFIED:20260330T210823Z
UID:10001220-1752159600-1752166800@annville.lclibs.org
SUMMARY:Annville Free Library Chess Club
DESCRIPTION:Join us on Thursdays from 3-5pm for Chess Club. No registration is required. All ages and skill levels are welcome!
URL:https://annville.lclibs.org/event/afl-chess-club-2/2025-07-10/
LOCATION:Annville Free Library\, 216 E Main St\, Annville\, PA\, 17003\, United States
CATEGORIES:Adults,Annville Free Library,Children,Interest Group,Seniors,Teens
ORGANIZER;CN="Ronice Nolt":MAILTO:rnolt@lclibs.org
GEO:40.3296151;-76.5120963
X-APPLE-STRUCTURED-LOCATION;VALUE=URI;X-ADDRESS=Annville Free Library 216 E Main St Annville PA 17003 United States;X-APPLE-RADIUS=500;X-TITLE=216 E Main St:geo:-76.5120963,40.3296151
END:VEVENT
BEGIN:VEVENT
DTSTART;TZID=America/New_York:20250709T183000
DTEND;TZID=America/New_York:20250709T200000
DTSTAMP:20260422T152325
CREATED:20241113T141436Z
LAST-MODIFIED:20251019T165256Z
UID:10004267-1752085800-1752091200@annville.lclibs.org
SUMMARY:Club Crochet
DESCRIPTION:Join us for Club Crochet at the Annville Free Library on Wednesdays from 6:30 – 8 pm. \nBring what you are working on and relax with fellow hookers. \nEveryone is welcome!
URL:https://annville.lclibs.org/event/club-crochet-2/2025-07-09/
LOCATION:Annville Free Library\, 216 E Main St\, Annville\, PA\, 17003\, United States
CATEGORIES:Annville Free Library,Interest Group
GEO:40.3296151;-76.5120963
X-APPLE-STRUCTURED-LOCATION;VALUE=URI;X-ADDRESS=Annville Free Library 216 E Main St Annville PA 17003 United States;X-APPLE-RADIUS=500;X-TITLE=216 E Main St:geo:-76.5120963,40.3296151
END:VEVENT
BEGIN:VEVENT
DTSTART;TZID=America/New_York:20250709T180000
DTEND;TZID=America/New_York:20250709T190000
DTSTAMP:20260422T152325
CREATED:20230706T205128Z
LAST-MODIFIED:20251019T170016Z
UID:10001438-1752084000-1752087600@annville.lclibs.org
SUMMARY:AA Sober Agnostics Meeting @ Annville Free Library
DESCRIPTION:Join us on Wednesdays from 6-7pm for Sober Agnostics. This meeting is held on the first floor in the our community room. \nFor more information about Alcoholics Anonymous in Lebanon County\, please visit: www.lebanonpaaa.org  \nOr call the local 24-hour hotline: 223-322-9305
URL:https://annville.lclibs.org/event/aa-sober-agnostics-meeting-afl-2/2025-07-09/
LOCATION:Annville Free Library\, 216 E Main St\, Annville\, PA\, 17003\, United States
CATEGORIES:Adult program,Annville Free Library,Seniors
ORGANIZER;CN="Ronice Nolt":MAILTO:rnolt@lclibs.org
GEO:40.3296151;-76.5120963
X-APPLE-STRUCTURED-LOCATION;VALUE=URI;X-ADDRESS=Annville Free Library 216 E Main St Annville PA 17003 United States;X-APPLE-RADIUS=500;X-TITLE=216 E Main St:geo:-76.5120963,40.3296151
END:VEVENT
BEGIN:VEVENT
DTSTART;TZID=America/New_York:20250708T180000
DTEND;TZID=America/New_York:20250708T200000
DTSTAMP:20260422T152325
CREATED:20240207T065656Z
LAST-MODIFIED:20241229T235342Z
UID:10002802-1751997600-1752004800@annville.lclibs.org
SUMMARY:AFL Knitters
DESCRIPTION:AFL Knitting Group\nThe AFL Knitting Group meets at the library every Tuesday @ 6:00 pm\nAll knitting levels are welcome!\nBring the project you are working on.
URL:https://annville.lclibs.org/event/afl-knitters/2025-07-08/
LOCATION:Annville Free Library\, 216 E Main St\, Annville\, PA\, 17003\, United States
CATEGORIES:Annville Free Library,Interest Group
GEO:40.3296151;-76.5120963
X-APPLE-STRUCTURED-LOCATION;VALUE=URI;X-ADDRESS=Annville Free Library 216 E Main St Annville PA 17003 United States;X-APPLE-RADIUS=500;X-TITLE=216 E Main St:geo:-76.5120963,40.3296151
END:VEVENT
BEGIN:VEVENT
DTSTART;TZID=America/New_York:20250703T150000
DTEND;TZID=America/New_York:20250703T170000
DTSTAMP:20260422T152325
CREATED:20230706T204751Z
LAST-MODIFIED:20260330T210823Z
UID:10001219-1751554800-1751562000@annville.lclibs.org
SUMMARY:Annville Free Library Chess Club
DESCRIPTION:Join us on Thursdays from 3-5pm for Chess Club. No registration is required. All ages and skill levels are welcome!
URL:https://annville.lclibs.org/event/afl-chess-club-2/2025-07-03/
LOCATION:Annville Free Library\, 216 E Main St\, Annville\, PA\, 17003\, United States
CATEGORIES:Adults,Annville Free Library,Children,Interest Group,Seniors,Teens
ORGANIZER;CN="Ronice Nolt":MAILTO:rnolt@lclibs.org
GEO:40.3296151;-76.5120963
X-APPLE-STRUCTURED-LOCATION;VALUE=URI;X-ADDRESS=Annville Free Library 216 E Main St Annville PA 17003 United States;X-APPLE-RADIUS=500;X-TITLE=216 E Main St:geo:-76.5120963,40.3296151
END:VEVENT
BEGIN:VEVENT
DTSTART;TZID=America/New_York:20250702T183000
DTEND;TZID=America/New_York:20250702T200000
DTSTAMP:20260422T152325
CREATED:20241113T141436Z
LAST-MODIFIED:20251019T165256Z
UID:10004266-1751481000-1751486400@annville.lclibs.org
SUMMARY:Club Crochet
DESCRIPTION:Join us for Club Crochet at the Annville Free Library on Wednesdays from 6:30 – 8 pm. \nBring what you are working on and relax with fellow hookers. \nEveryone is welcome!
URL:https://annville.lclibs.org/event/club-crochet-2/2025-07-02/
LOCATION:Annville Free Library\, 216 E Main St\, Annville\, PA\, 17003\, United States
CATEGORIES:Annville Free Library,Interest Group
GEO:40.3296151;-76.5120963
X-APPLE-STRUCTURED-LOCATION;VALUE=URI;X-ADDRESS=Annville Free Library 216 E Main St Annville PA 17003 United States;X-APPLE-RADIUS=500;X-TITLE=216 E Main St:geo:-76.5120963,40.3296151
END:VEVENT
BEGIN:VEVENT
DTSTART;TZID=America/New_York:20250702T180000
DTEND;TZID=America/New_York:20250702T190000
DTSTAMP:20260422T152325
CREATED:20230706T205128Z
LAST-MODIFIED:20251019T170016Z
UID:10001437-1751479200-1751482800@annville.lclibs.org
SUMMARY:AA Sober Agnostics Meeting @ Annville Free Library
DESCRIPTION:Join us on Wednesdays from 6-7pm for Sober Agnostics. This meeting is held on the first floor in the our community room. \nFor more information about Alcoholics Anonymous in Lebanon County\, please visit: www.lebanonpaaa.org  \nOr call the local 24-hour hotline: 223-322-9305
URL:https://annville.lclibs.org/event/aa-sober-agnostics-meeting-afl-2/2025-07-02/
LOCATION:Annville Free Library\, 216 E Main St\, Annville\, PA\, 17003\, United States
CATEGORIES:Adult program,Annville Free Library,Seniors
ORGANIZER;CN="Ronice Nolt":MAILTO:rnolt@lclibs.org
GEO:40.3296151;-76.5120963
X-APPLE-STRUCTURED-LOCATION;VALUE=URI;X-ADDRESS=Annville Free Library 216 E Main St Annville PA 17003 United States;X-APPLE-RADIUS=500;X-TITLE=216 E Main St:geo:-76.5120963,40.3296151
END:VEVENT
BEGIN:VEVENT
DTSTART;TZID=America/New_York:20250701T180000
DTEND;TZID=America/New_York:20250701T200000
DTSTAMP:20260422T152325
CREATED:20240207T065656Z
LAST-MODIFIED:20241229T235342Z
UID:10002801-1751392800-1751400000@annville.lclibs.org
SUMMARY:AFL Knitters
DESCRIPTION:AFL Knitting Group\nThe AFL Knitting Group meets at the library every Tuesday @ 6:00 pm\nAll knitting levels are welcome!\nBring the project you are working on.
URL:https://annville.lclibs.org/event/afl-knitters/2025-07-01/
LOCATION:Annville Free Library\, 216 E Main St\, Annville\, PA\, 17003\, United States
CATEGORIES:Annville Free Library,Interest Group
GEO:40.3296151;-76.5120963
X-APPLE-STRUCTURED-LOCATION;VALUE=URI;X-ADDRESS=Annville Free Library 216 E Main St Annville PA 17003 United States;X-APPLE-RADIUS=500;X-TITLE=216 E Main St:geo:-76.5120963,40.3296151
END:VEVENT
BEGIN:VEVENT
DTSTART;TZID=America/New_York:20250626T150000
DTEND;TZID=America/New_York:20250626T170000
DTSTAMP:20260422T152325
CREATED:20230706T204751Z
LAST-MODIFIED:20260330T210823Z
UID:10001218-1750950000-1750957200@annville.lclibs.org
SUMMARY:Annville Free Library Chess Club
DESCRIPTION:Join us on Thursdays from 3-5pm for Chess Club. No registration is required. All ages and skill levels are welcome!
URL:https://annville.lclibs.org/event/afl-chess-club-2/2025-06-26/
LOCATION:Annville Free Library\, 216 E Main St\, Annville\, PA\, 17003\, United States
CATEGORIES:Adults,Annville Free Library,Children,Interest Group,Seniors,Teens
ORGANIZER;CN="Ronice Nolt":MAILTO:rnolt@lclibs.org
GEO:40.3296151;-76.5120963
X-APPLE-STRUCTURED-LOCATION;VALUE=URI;X-ADDRESS=Annville Free Library 216 E Main St Annville PA 17003 United States;X-APPLE-RADIUS=500;X-TITLE=216 E Main St:geo:-76.5120963,40.3296151
END:VEVENT
BEGIN:VEVENT
DTSTART;TZID=America/New_York:20250625T183000
DTEND;TZID=America/New_York:20250625T200000
DTSTAMP:20260422T152325
CREATED:20241113T141436Z
LAST-MODIFIED:20251019T165256Z
UID:10004265-1750876200-1750881600@annville.lclibs.org
SUMMARY:Club Crochet
DESCRIPTION:Join us for Club Crochet at the Annville Free Library on Wednesdays from 6:30 – 8 pm. \nBring what you are working on and relax with fellow hookers. \nEveryone is welcome!
URL:https://annville.lclibs.org/event/club-crochet-2/2025-06-25/
LOCATION:Annville Free Library\, 216 E Main St\, Annville\, PA\, 17003\, United States
CATEGORIES:Annville Free Library,Interest Group
GEO:40.3296151;-76.5120963
X-APPLE-STRUCTURED-LOCATION;VALUE=URI;X-ADDRESS=Annville Free Library 216 E Main St Annville PA 17003 United States;X-APPLE-RADIUS=500;X-TITLE=216 E Main St:geo:-76.5120963,40.3296151
END:VEVENT
BEGIN:VEVENT
DTSTART;TZID=America/New_York:20250625T180000
DTEND;TZID=America/New_York:20250625T190000
DTSTAMP:20260422T152325
CREATED:20230706T205128Z
LAST-MODIFIED:20251019T170016Z
UID:10001436-1750874400-1750878000@annville.lclibs.org
SUMMARY:AA Sober Agnostics Meeting @ Annville Free Library
DESCRIPTION:Join us on Wednesdays from 6-7pm for Sober Agnostics. This meeting is held on the first floor in the our community room. \nFor more information about Alcoholics Anonymous in Lebanon County\, please visit: www.lebanonpaaa.org  \nOr call the local 24-hour hotline: 223-322-9305
URL:https://annville.lclibs.org/event/aa-sober-agnostics-meeting-afl-2/2025-06-25/
LOCATION:Annville Free Library\, 216 E Main St\, Annville\, PA\, 17003\, United States
CATEGORIES:Adult program,Annville Free Library,Seniors
ORGANIZER;CN="Ronice Nolt":MAILTO:rnolt@lclibs.org
GEO:40.3296151;-76.5120963
X-APPLE-STRUCTURED-LOCATION;VALUE=URI;X-ADDRESS=Annville Free Library 216 E Main St Annville PA 17003 United States;X-APPLE-RADIUS=500;X-TITLE=216 E Main St:geo:-76.5120963,40.3296151
END:VEVENT
BEGIN:VEVENT
DTSTART;TZID=America/New_York:20250624T180000
DTEND;TZID=America/New_York:20250624T200000
DTSTAMP:20260422T152325
CREATED:20240207T065656Z
LAST-MODIFIED:20241229T235342Z
UID:10002800-1750788000-1750795200@annville.lclibs.org
SUMMARY:AFL Knitters
DESCRIPTION:AFL Knitting Group\nThe AFL Knitting Group meets at the library every Tuesday @ 6:00 pm\nAll knitting levels are welcome!\nBring the project you are working on.
URL:https://annville.lclibs.org/event/afl-knitters/2025-06-24/
LOCATION:Annville Free Library\, 216 E Main St\, Annville\, PA\, 17003\, United States
CATEGORIES:Annville Free Library,Interest Group
GEO:40.3296151;-76.5120963
X-APPLE-STRUCTURED-LOCATION;VALUE=URI;X-ADDRESS=Annville Free Library 216 E Main St Annville PA 17003 United States;X-APPLE-RADIUS=500;X-TITLE=216 E Main St:geo:-76.5120963,40.3296151
END:VEVENT
BEGIN:VEVENT
DTSTART;TZID=America/New_York:20250619T150000
DTEND;TZID=America/New_York:20250619T170000
DTSTAMP:20260422T152325
CREATED:20230706T204751Z
LAST-MODIFIED:20260330T210823Z
UID:10001217-1750345200-1750352400@annville.lclibs.org
SUMMARY:Annville Free Library Chess Club
DESCRIPTION:Join us on Thursdays from 3-5pm for Chess Club. No registration is required. All ages and skill levels are welcome!
URL:https://annville.lclibs.org/event/afl-chess-club-2/2025-06-19/
LOCATION:Annville Free Library\, 216 E Main St\, Annville\, PA\, 17003\, United States
CATEGORIES:Adults,Annville Free Library,Children,Interest Group,Seniors,Teens
ORGANIZER;CN="Ronice Nolt":MAILTO:rnolt@lclibs.org
GEO:40.3296151;-76.5120963
X-APPLE-STRUCTURED-LOCATION;VALUE=URI;X-ADDRESS=Annville Free Library 216 E Main St Annville PA 17003 United States;X-APPLE-RADIUS=500;X-TITLE=216 E Main St:geo:-76.5120963,40.3296151
END:VEVENT
BEGIN:VEVENT
DTSTART;TZID=America/New_York:20250618T183000
DTEND;TZID=America/New_York:20250618T200000
DTSTAMP:20260422T152325
CREATED:20241113T141436Z
LAST-MODIFIED:20251019T165256Z
UID:10004264-1750271400-1750276800@annville.lclibs.org
SUMMARY:Club Crochet
DESCRIPTION:Join us for Club Crochet at the Annville Free Library on Wednesdays from 6:30 – 8 pm. \nBring what you are working on and relax with fellow hookers. \nEveryone is welcome!
URL:https://annville.lclibs.org/event/club-crochet-2/2025-06-18/
LOCATION:Annville Free Library\, 216 E Main St\, Annville\, PA\, 17003\, United States
CATEGORIES:Annville Free Library,Interest Group
GEO:40.3296151;-76.5120963
X-APPLE-STRUCTURED-LOCATION;VALUE=URI;X-ADDRESS=Annville Free Library 216 E Main St Annville PA 17003 United States;X-APPLE-RADIUS=500;X-TITLE=216 E Main St:geo:-76.5120963,40.3296151
END:VEVENT
BEGIN:VEVENT
DTSTART;TZID=America/New_York:20250618T180000
DTEND;TZID=America/New_York:20250618T190000
DTSTAMP:20260422T152325
CREATED:20230706T205128Z
LAST-MODIFIED:20251019T170016Z
UID:10001435-1750269600-1750273200@annville.lclibs.org
SUMMARY:AA Sober Agnostics Meeting @ Annville Free Library
DESCRIPTION:Join us on Wednesdays from 6-7pm for Sober Agnostics. This meeting is held on the first floor in the our community room. \nFor more information about Alcoholics Anonymous in Lebanon County\, please visit: www.lebanonpaaa.org  \nOr call the local 24-hour hotline: 223-322-9305
URL:https://annville.lclibs.org/event/aa-sober-agnostics-meeting-afl-2/2025-06-18/
LOCATION:Annville Free Library\, 216 E Main St\, Annville\, PA\, 17003\, United States
CATEGORIES:Adult program,Annville Free Library,Seniors
ORGANIZER;CN="Ronice Nolt":MAILTO:rnolt@lclibs.org
GEO:40.3296151;-76.5120963
X-APPLE-STRUCTURED-LOCATION;VALUE=URI;X-ADDRESS=Annville Free Library 216 E Main St Annville PA 17003 United States;X-APPLE-RADIUS=500;X-TITLE=216 E Main St:geo:-76.5120963,40.3296151
END:VEVENT
BEGIN:VEVENT
DTSTART;TZID=America/New_York:20250617T180000
DTEND;TZID=America/New_York:20250617T200000
DTSTAMP:20260422T152325
CREATED:20240207T065656Z
LAST-MODIFIED:20241229T235342Z
UID:10002799-1750183200-1750190400@annville.lclibs.org
SUMMARY:AFL Knitters
DESCRIPTION:AFL Knitting Group\nThe AFL Knitting Group meets at the library every Tuesday @ 6:00 pm\nAll knitting levels are welcome!\nBring the project you are working on.
URL:https://annville.lclibs.org/event/afl-knitters/2025-06-17/
LOCATION:Annville Free Library\, 216 E Main St\, Annville\, PA\, 17003\, United States
CATEGORIES:Annville Free Library,Interest Group
GEO:40.3296151;-76.5120963
X-APPLE-STRUCTURED-LOCATION;VALUE=URI;X-ADDRESS=Annville Free Library 216 E Main St Annville PA 17003 United States;X-APPLE-RADIUS=500;X-TITLE=216 E Main St:geo:-76.5120963,40.3296151
END:VEVENT
BEGIN:VEVENT
DTSTART;TZID=America/New_York:20250612T150000
DTEND;TZID=America/New_York:20250612T170000
DTSTAMP:20260422T152325
CREATED:20230706T204751Z
LAST-MODIFIED:20260330T210823Z
UID:10001216-1749740400-1749747600@annville.lclibs.org
SUMMARY:Annville Free Library Chess Club
DESCRIPTION:Join us on Thursdays from 3-5pm for Chess Club. No registration is required. All ages and skill levels are welcome!
URL:https://annville.lclibs.org/event/afl-chess-club-2/2025-06-12/
LOCATION:Annville Free Library\, 216 E Main St\, Annville\, PA\, 17003\, United States
CATEGORIES:Adults,Annville Free Library,Children,Interest Group,Seniors,Teens
ORGANIZER;CN="Ronice Nolt":MAILTO:rnolt@lclibs.org
GEO:40.3296151;-76.5120963
X-APPLE-STRUCTURED-LOCATION;VALUE=URI;X-ADDRESS=Annville Free Library 216 E Main St Annville PA 17003 United States;X-APPLE-RADIUS=500;X-TITLE=216 E Main St:geo:-76.5120963,40.3296151
END:VEVENT
BEGIN:VEVENT
DTSTART;TZID=America/New_York:20250611T183000
DTEND;TZID=America/New_York:20250611T200000
DTSTAMP:20260422T152325
CREATED:20241113T141436Z
LAST-MODIFIED:20251019T165256Z
UID:10004263-1749666600-1749672000@annville.lclibs.org
SUMMARY:Club Crochet
DESCRIPTION:Join us for Club Crochet at the Annville Free Library on Wednesdays from 6:30 – 8 pm. \nBring what you are working on and relax with fellow hookers. \nEveryone is welcome!
URL:https://annville.lclibs.org/event/club-crochet-2/2025-06-11/
LOCATION:Annville Free Library\, 216 E Main St\, Annville\, PA\, 17003\, United States
CATEGORIES:Annville Free Library,Interest Group
GEO:40.3296151;-76.5120963
X-APPLE-STRUCTURED-LOCATION;VALUE=URI;X-ADDRESS=Annville Free Library 216 E Main St Annville PA 17003 United States;X-APPLE-RADIUS=500;X-TITLE=216 E Main St:geo:-76.5120963,40.3296151
END:VEVENT
BEGIN:VEVENT
DTSTART;TZID=America/New_York:20250611T180000
DTEND;TZID=America/New_York:20250611T190000
DTSTAMP:20260422T152325
CREATED:20230706T205128Z
LAST-MODIFIED:20251019T170016Z
UID:10001434-1749664800-1749668400@annville.lclibs.org
SUMMARY:AA Sober Agnostics Meeting @ Annville Free Library
DESCRIPTION:Join us on Wednesdays from 6-7pm for Sober Agnostics. This meeting is held on the first floor in the our community room. \nFor more information about Alcoholics Anonymous in Lebanon County\, please visit: www.lebanonpaaa.org  \nOr call the local 24-hour hotline: 223-322-9305
URL:https://annville.lclibs.org/event/aa-sober-agnostics-meeting-afl-2/2025-06-11/
LOCATION:Annville Free Library\, 216 E Main St\, Annville\, PA\, 17003\, United States
CATEGORIES:Adult program,Annville Free Library,Seniors
ORGANIZER;CN="Ronice Nolt":MAILTO:rnolt@lclibs.org
GEO:40.3296151;-76.5120963
X-APPLE-STRUCTURED-LOCATION;VALUE=URI;X-ADDRESS=Annville Free Library 216 E Main St Annville PA 17003 United States;X-APPLE-RADIUS=500;X-TITLE=216 E Main St:geo:-76.5120963,40.3296151
END:VEVENT
BEGIN:VEVENT
DTSTART;TZID=America/New_York:20250610T180000
DTEND;TZID=America/New_York:20250610T200000
DTSTAMP:20260422T152325
CREATED:20240207T065656Z
LAST-MODIFIED:20241229T235342Z
UID:10002798-1749578400-1749585600@annville.lclibs.org
SUMMARY:AFL Knitters
DESCRIPTION:AFL Knitting Group\nThe AFL Knitting Group meets at the library every Tuesday @ 6:00 pm\nAll knitting levels are welcome!\nBring the project you are working on.
URL:https://annville.lclibs.org/event/afl-knitters/2025-06-10/
LOCATION:Annville Free Library\, 216 E Main St\, Annville\, PA\, 17003\, United States
CATEGORIES:Annville Free Library,Interest Group
GEO:40.3296151;-76.5120963
X-APPLE-STRUCTURED-LOCATION;VALUE=URI;X-ADDRESS=Annville Free Library 216 E Main St Annville PA 17003 United States;X-APPLE-RADIUS=500;X-TITLE=216 E Main St:geo:-76.5120963,40.3296151
END:VEVENT
BEGIN:VEVENT
DTSTART;TZID=America/New_York:20250605T150000
DTEND;TZID=America/New_York:20250605T170000
DTSTAMP:20260422T152325
CREATED:20230706T204751Z
LAST-MODIFIED:20260330T210823Z
UID:10001215-1749135600-1749142800@annville.lclibs.org
SUMMARY:Annville Free Library Chess Club
DESCRIPTION:Join us on Thursdays from 3-5pm for Chess Club. No registration is required. All ages and skill levels are welcome!
URL:https://annville.lclibs.org/event/afl-chess-club-2/2025-06-05/
LOCATION:Annville Free Library\, 216 E Main St\, Annville\, PA\, 17003\, United States
CATEGORIES:Adults,Annville Free Library,Children,Interest Group,Seniors,Teens
ORGANIZER;CN="Ronice Nolt":MAILTO:rnolt@lclibs.org
GEO:40.3296151;-76.5120963
X-APPLE-STRUCTURED-LOCATION;VALUE=URI;X-ADDRESS=Annville Free Library 216 E Main St Annville PA 17003 United States;X-APPLE-RADIUS=500;X-TITLE=216 E Main St:geo:-76.5120963,40.3296151
END:VEVENT
END:VCALENDAR